BEGIN:VCALENDAR
VERSION:2.0
PRODID:-//ChamberMaster//Event Calendar 2.0//EN
METHOD:PUBLISH
X-PUBLISHED-TTL:P3D
REFRESH-INTERVAL:P3D
CALSCALE:GREGORIAN
BEGIN:VEVENT
DTSTART:20150915T210000Z
DTEND:20150916T003000Z
X-MICROSOFT-CDO-ALLDAYEVENT:FALSE
SUMMARY:2015 Trade Show & Associate Appreciation Night
DESCRIPTION:Trade Show and Associates Appreciation Night\n\nJoin us for a great night of networking\, food\, beverage and displays of amazing products and services!\n\n\n\nALSO JOIN US FOR THIS SPECIAL MEETING: BUILDING OFFICIALS INTERACTIVE DISCUSSION\n\n2:30pm - 4:30pm\n\nThe BIA is hosting in conjunction with the annual Trade Show a 2 hour interactive discussion presented by the local Building Departments of the jurisdictions in Manatee and Sarasota Counties. The Building Officials and their staff will be in attendance.\n\nThe topic:\n\n5th Edition (2014) Florida Building Code Changes\n\nFollowed by a Q&A for any of these issues and any other concerns.\n\n*Please formulate your questions now and submit them via the emails below ahead of time to:\n\n\n\nManatee County Building Department: \n\nCJ Dupre  -  carroll.dupre@mymanatee.org \n\n\n\nSarasota County Building Department: \n\nGreg Yantorno  -  gyantorn@scgov.net \n\n\n\nOur local jurisdictions are working diligently to create a positive environment for us to work. Come and make this event a success and get answers to your questions.\n\n\n\nClick here for sponsorship opportunities and table top reservations.
X-ALT-DESC;FMTTYPE=text/html:<strong>Trade Show and Associates Appreciation Night</strong><br />\n<span style="line-height: 16.6399993896484px\;">Join us for a great night of networking\, food\, beverage and displays of amazing products and services!</span><br />\n<br />\nALSO JOIN US FOR THIS SPECIAL MEETING: BUILDING OFFICIALS INTERACTIVE DISCUSSION<br />\n2:30pm - 4:30pm<br />\nThe BIA is hosting in conjunction with the annual Trade Show&nbsp\;a 2 hour interactive discussion presented by the local&nbsp\;Building Departments of the jurisdictions in Manatee and Sarasota Counties. The Building Officials and their staff&nbsp\;will be in attendance.<br />\nThe topic:<br />\n5th Edition (2014) Florida Building Code Changes<br />\nFollowed by a Q&amp\;A for any of these issues and any other concerns.<br />\n*Please formulate your questions now and submit them&nbsp\;via the emails below ahead of time to:<br />\n<br />\nManatee County Building Department:&nbsp\;<br />\nCJ Dupre &nbsp\;- &nbsp\;<a href="mailto:carroll.dupre@mymanatee.org?subject=question%20for%20the%209.15%20MSBIA%20meeting">carroll.dupre@mymanatee.org</a>&nbsp\;<br />\n<br />\nSarasota County Building Department:&nbsp\;<br />\nGreg Yantorno &nbsp\;- &nbsp\;<a href="mailto:gyantorn@scgov.net ?subject=question%20for%20the%209.15%20MSBIA%20event">gyantorn@scgov.net&nbsp\;</a><br />\n<br />\nOur local jurisdictions are working diligently to create a&nbsp\;positive environment for us to work. Come and make this&nbsp\;event a success and get answers to your questions.<br />\n<br />\n<a href="http://cloud.chambermaster.com/userfiles/UserFiles/chambers/9232/File/TableReservationandSponsorshipForm.pdf">Click here for sponsorship opportunities and table top reservations.</a>
LOCATION:Bradenton Area Convention Center One Haben Blvd. Palmetto\, FL 34221
UID:e.9232.890
SEQUENCE:3
DTSTAMP:20260421T173209Z
URL:https://business.suncoastba.org/events/details/2015-trade-show-associate-appreciation-night-09-15-2015-890
END:VEVENT

END:VCALENDAR
