BEGIN:VCALENDAR
VERSION:2.0
PRODID:-//ChamberMaster//Event Calendar 2.0//EN
METHOD:PUBLISH
X-PUBLISHED-TTL:P3D
REFRESH-INTERVAL:P3D
CALSCALE:GREGORIAN
BEGIN:VEVENT
DTSTART:20161110T230000Z
DTEND:20161111T023000Z
X-MICROSOFT-CDO-ALLDAYEVENT:FALSE
SUMMARY:2016 Installation of Officers & Membership Meeting
DESCRIPTION:Reservations for this event is now CLOSED. Look forward to seeing all of those who have RSVPd! :)
X-ALT-DESC;FMTTYPE=text/html:<span style="color: rgb(29\, 33\, 41)\; font-family: Helvetica\, Arial\, sans-serif\; font-size: 14px\; white-space: pre-wrap\;">Reservations for this event is now CLOSED. Look forward to seeing all of those who have RSVPd! :)</span>
LOCATION:RiverHouse Riverfront Room 995 Riverside Drive Palmetto\, FL 34221
UID:e.9232.1177
SEQUENCE:3
DTSTAMP:20260422T062505Z
URL:https://business.suncoastba.org/events/details/2016-installation-of-officers-membership-meeting-1177
END:VEVENT

END:VCALENDAR
