BEGIN:VCALENDAR
VERSION:2.0
PRODID:-//ChamberMaster//Event Calendar 2.0//EN
METHOD:PUBLISH
X-PUBLISHED-TTL:P3D
REFRESH-INTERVAL:P3D
CALSCALE:GREGORIAN
BEGIN:VEVENT
DTSTART:20160217T133000Z
DTEND:20160217T150000Z
X-MICROSOFT-CDO-ALLDAYEVENT:FALSE
SUMMARY:2016 Parade of Homes Realtor Preview
DESCRIPTION:Realtors join us for Breakfast with the Builders! Meet and Greet their sales teams! And get the first peek at the 2016 Parade of Homes entries.
X-ALT-DESC;FMTTYPE=text/html:<span style="color: rgb(63\, 63\, 63)\; font-family: 'Helvetica Neue'\, Helvetica\, Arial\, sans-serif\; font-size: 14px\; line-height: 18.2px\;">Realtors join us for Breakfast with the Builders! Meet and Greet their sales teams! And get the first peek at the 2016 Parade of Homes entries.</span>
LOCATION:Polo Grill - Fete Ballroom 10670 Boardwalk Loop Lakewood Ranch (Main Street)
UID:e.9232.1235
SEQUENCE:3
DTSTAMP:20260421T125813Z
URL:https://business.suncoastba.org/events/details/2016-parade-of-homes-realtor-preview-02-17-2016-1235
END:VEVENT

END:VCALENDAR
