BEGIN:VCALENDAR
VERSION:2.0
PRODID:-//ChamberMaster//Event Calendar 2.0//EN
METHOD:PUBLISH
X-PUBLISHED-TTL:P3D
REFRESH-INTERVAL:P3D
CALSCALE:GREGORIAN
BEGIN:VEVENT
DTSTART:20160913T210000Z
DTEND:20160914T003000Z
X-MICROSOFT-CDO-ALLDAYEVENT:FALSE
SUMMARY:2016 Trade Show & Associate Appreciation Night
DESCRIPTION:Trade Show and Associates Appreciation Night\n\nJoin us for a great night of networking\, food\, beverage and displays of amazing products and services!\n\n\n\nALSO JOIN US FOR THIS SPECIAL MEETING: BUILDING OFFICIALS INTERACTIVE DISCUSSION ~ 4:00 - 5:30pm \n\nThe BIA is hosting in conjunction with the annual Trade Show an interactive discussion presented by the local Building Departments of the jurisdictions in Manatee and Sarasota Counties. The Building Officials and their staff will be in attendance.\n\nTopic: This is a great opportunity for the industry professionals for networking & Q&A with your local officials.\n\nThe officials will discuss any issues and/or any other concerns.\n\n*Please formulate your questions now and submit them via the emails below ahead of time to:\n\nManatee County Building Department: \n\nCJ Dupre  -  carroll.dupre@mymanatee.org \n\nor\n\nSarasota County Building Department: \n\nKathleen Croteau - kcroteau@scgov.net \n\n\n\nOur local jurisdictions are working diligently to create a positive environment for us to work. Come and make this event a success and get answers to your questions.\n\n\n\nContact Beverly@ms-bia.org for sponsorship opportunities and table top reservations.
X-ALT-DESC;FMTTYPE=text/html:<strong>Trade Show and Associates Appreciation Night</strong><br />\n<span style="line-height: 16.6399993896484px\;">Join us for a great night of networking\, food\, beverage and displays of amazing products and services!</span><br />\n<br />\nALSO JOIN US FOR THIS SPECIAL MEETING: BUILDING OFFICIALS INTERACTIVE DISCUSSION ~ 4:00 - 5:30pm&nbsp\;<br />\nThe BIA is hosting in conjunction with the annual Trade Show&nbsp\;an interactive discussion presented by the local&nbsp\;Building Departments of the jurisdictions in Manatee and Sarasota Counties. The Building Officials and their staff&nbsp\;will be in attendance.<br />\nTopic: This is a great opportunity for the industry professionals for networking &amp\; Q&amp\;A with your local officials.<br />\nThe officials will discuss any issues and/or any other concerns.<br />\n*Please formulate your questions now and submit them&nbsp\;via the emails below ahead of time to:<br />\nManatee County Building Department:&nbsp\;<br />\nCJ Dupre &nbsp\;- &nbsp\;<a href="mailto:carroll.dupre@mymanatee.org?subject=question%20for%20the%209.15%20MSBIA%20meeting">carroll.dupre@mymanatee.org</a>&nbsp\;<br />\nor<br />\nSarasota County Building Department:&nbsp\;<br />\nKathleen Croteau - <u>kcroteau@scgov.net</u>&nbsp\;<br />\n<br />\nOur local jurisdictions are working diligently to create a&nbsp\;positive environment for us to work. Come and make this&nbsp\;event a success and get answers to your questions.<br />\n<br />\n<a href="https://chambermaster.blob.core.windows.net/userfiles/UserFiles/chambers/9232/File/TableReservationFormver3.pdf">Contact Beverly@ms-bia.org for sponsorship opportunities and table top reservations.</a>
LOCATION:Bradenton Area Convention Center One Haben Blvd. Palmetto\, FL 34221
UID:e.9232.1528
SEQUENCE:3
DTSTAMP:20260422T011921Z
URL:https://business.suncoastba.org/events/details/2016-trade-show-associate-appreciation-night-09-13-2016-1528
END:VEVENT

END:VCALENDAR
