BEGIN:VCALENDAR
VERSION:2.0
PRODID:-//ChamberMaster//Event Calendar 2.0//EN
METHOD:PUBLISH
X-PUBLISHED-TTL:P3D
REFRESH-INTERVAL:P3D
CALSCALE:GREGORIAN
BEGIN:VEVENT
DTSTART;VALUE=DATE:20170801
DTEND;VALUE=DATE:20170806
TRANSP:TRANSPARENT
X-MICROSOFT-CDO-ALLDAYEVENT:TRUE
SUMMARY:2017 SARASOTA SLAM - MSBIA Fishing Tournament
DESCRIPTION:Join us for the 16th Annual Sarasota Slam Fishing Tournament!\n\n\n\nBillfish\, Fun Fish\, Inshore\, Offshore and Jr. Angler Divisions! All boats will be automatically registered to win the Trash Can Slam at no extra charge! There will be mandatory captains meetings prior to anglers being released to fish. Billfish Tuesday\, August 1st 6pm. Inshore and Offshore on Friday\, August 4th at 5pm\n\n\n\nThe committee will take recommendation for the 2017 charity to earn partial proceeds from the event.\n\n\n\nWeigh-in\, silent auction and raffles on Saturday\, August 5th starting at 1pm. Followed by a great party.
X-ALT-DESC;FMTTYPE=text/html:<span style="color: rgb(63\, 63\, 63)\; font-family: 'Helvetica Neue'\, Helvetica\, Arial\, sans-serif\; font-size: 14px\; line-height: 18.2px\;">Join us for the&nbsp\;16th Annual Sarasota Slam Fishing Tournament!</span><br style="box-sizing: content-box\; bottom: auto\; clear: none\; color: rgb(63\, 63\, 63)\; content: normal\; direction: inherit\; display: inline\; empty-cells: show\; float: none\; font-stretch: inherit\; font-size: 14px\; font-family: 'Helvetica Neue'\, Helvetica\, Arial\, sans-serif\; left: auto\; line-height: 18.2px\; margin: 0px\; max-height: none\; max-width: none\; min-height: initial\; min-width: initial\; opacity: 1\; outline: invert none medium\; outline-offset: 0px\; overflow: visible\; padding: 0px\; position: static\; resize: none\; right: auto\; table-layout: auto\; text-overflow: clip\; top: auto\; vertical-align: baseline\; visibility: inherit\; word-break: inherit\; word-wrap: inherit\; z-index: auto\; border: none\; border-collapse: separate\; border-image-source: none\; border-image-slice: 100% 1 0\; border-image-repeat: stretch\; border-radius: 0px\; height: auto\; width: auto\; background-image: none\; background-attachment: initial\; background-size: initial\; background-origin: initial\; background-clip: initial\; background-position: initial\; background-repeat: initial\;" />\n<br style="box-sizing: content-box\; bottom: auto\; clear: none\; color: rgb(63\, 63\, 63)\; content: normal\; direction: inherit\; display: inline\; empty-cells: show\; float: none\; font-stretch: inherit\; font-size: 14px\; font-family: 'Helvetica Neue'\, Helvetica\, Arial\, sans-serif\; left: auto\; line-height: 18.2px\; margin: 0px\; max-height: none\; max-width: none\; min-height: initial\; min-width: initial\; opacity: 1\; outline: invert none medium\; outline-offset: 0px\; overflow: visible\; padding: 0px\; position: static\; resize: none\; right: auto\; table-layout: auto\; text-overflow: clip\; top: auto\; vertical-align: baseline\; visibility: inherit\; word-break: inherit\; word-wrap: inherit\; z-index: auto\; border: none\; border-collapse: separate\; border-image-source: none\; border-image-slice: 100% 1 0\; border-image-repeat: stretch\; border-radius: 0px\; height: auto\; width: auto\; background-image: none\; background-attachment: initial\; background-size: initial\; background-origin: initial\; background-clip: initial\; background-position: initial\; background-repeat: initial\;" />\n<span style="color: rgb(63\, 63\, 63)\; font-family: 'Helvetica Neue'\, Helvetica\, Arial\, sans-serif\; font-size: 14px\; line-height: 18.2px\;">Billfish\, Fun Fish\, Inshore\, Offshore and Jr. Angler Divisions! All boats will be automatically registered to win the Trash Can Slam at no extra charge! There will be mandatory&nbsp\;captains meetings prior to anglers being released to fish. Billfish Tuesday\, August 1st 6pm. Inshore and Offshore on Friday\, August 4th at 5pm</span><br style="box-sizing: content-box\; bottom: auto\; clear: none\; color: rgb(63\, 63\, 63)\; content: normal\; direction: inherit\; display: inline\; empty-cells: show\; float: none\; font-stretch: inherit\; font-size: 14px\; font-family: 'Helvetica Neue'\, Helvetica\, Arial\, sans-serif\; left: auto\; line-height: 18.2px\; margin: 0px\; max-height: none\; max-width: none\; min-height: initial\; min-width: initial\; opacity: 1\; outline: invert none medium\; outline-offset: 0px\; overflow: visible\; padding: 0px\; position: static\; resize: none\; right: auto\; table-layout: auto\; text-overflow: clip\; top: auto\; vertical-align: baseline\; visibility: inherit\; word-break: inherit\; word-wrap: inherit\; z-index: auto\; border: none\; border-collapse: separate\; border-image-source: none\; border-image-slice: 100% 1 0\; border-image-repeat: stretch\; border-radius: 0px\; height: auto\; width: auto\; background-image: none\; background-attachment: initial\; background-size: initial\; background-origin: initial\; background-clip: initial\; background-position: initial\; background-repeat: initial\;" />\n<br style="box-sizing: content-box\; bottom: auto\; clear: none\; color: rgb(63\, 63\, 63)\; content: normal\; direction: inherit\; display: inline\; empty-cells: show\; float: none\; font-stretch: inherit\; font-size: 14px\; font-family: 'Helvetica Neue'\, Helvetica\, Arial\, sans-serif\; left: auto\; line-height: 18.2px\; margin: 0px\; max-height: none\; max-width: none\; min-height: initial\; min-width: initial\; opacity: 1\; outline: invert none medium\; outline-offset: 0px\; overflow: visible\; padding: 0px\; position: static\; resize: none\; right: auto\; table-layout: auto\; text-overflow: clip\; top: auto\; vertical-align: baseline\; visibility: inherit\; word-break: inherit\; word-wrap: inherit\; z-index: auto\; border: none\; border-collapse: separate\; border-image-source: none\; border-image-slice: 100% 1 0\; border-image-repeat: stretch\; border-radius: 0px\; height: auto\; width: auto\; background-image: none\; background-attachment: initial\; background-size: initial\; background-origin: initial\; background-clip: initial\; background-position: initial\; background-repeat: initial\;" />\n<font color="#3f3f3f" face="Helvetica Neue\, Helvetica\, Arial\, sans-serif"><span style="font-size: 14px\; line-height: 18.2px\;">The committee will take recommendation for the 2017 charity to earn partial proceeds from the event.</span></font><br style="box-sizing: content-box\; bottom: auto\; clear: none\; color: rgb(63\, 63\, 63)\; content: normal\; direction: inherit\; display: inline\; empty-cells: show\; float: none\; font-stretch: inherit\; font-size: 14px\; font-family: 'Helvetica Neue'\, Helvetica\, Arial\, sans-serif\; left: auto\; line-height: 18.2px\; margin: 0px\; max-height: none\; max-width: none\; min-height: initial\; min-width: initial\; opacity: 1\; outline: invert none medium\; outline-offset: 0px\; overflow: visible\; padding: 0px\; position: static\; resize: none\; right: auto\; table-layout: auto\; text-overflow: clip\; top: auto\; vertical-align: baseline\; visibility: inherit\; word-break: inherit\; word-wrap: inherit\; z-index: auto\; border: none\; border-collapse: separate\; border-image-source: none\; border-image-slice: 100% 1 0\; border-image-repeat: stretch\; border-radius: 0px\; height: auto\; width: auto\; background-image: none\; background-attachment: initial\; background-size: initial\; background-origin: initial\; background-clip: initial\; background-position: initial\; background-repeat: initial\;" />\n<br style="box-sizing: content-box\; bottom: auto\; clear: none\; color: rgb(63\, 63\, 63)\; content: normal\; direction: inherit\; display: inline\; empty-cells: show\; float: none\; font-stretch: inherit\; font-size: 14px\; font-family: 'Helvetica Neue'\, Helvetica\, Arial\, sans-serif\; left: auto\; line-height: 18.2px\; margin: 0px\; max-height: none\; max-width: none\; min-height: initial\; min-width: initial\; opacity: 1\; outline: invert none medium\; outline-offset: 0px\; overflow: visible\; padding: 0px\; position: static\; resize: none\; right: auto\; table-layout: auto\; text-overflow: clip\; top: auto\; vertical-align: baseline\; visibility: inherit\; word-break: inherit\; word-wrap: inherit\; z-index: auto\; border: none\; border-collapse: separate\; border-image-source: none\; border-image-slice: 100% 1 0\; border-image-repeat: stretch\; border-radius: 0px\; height: auto\; width: auto\; background-image: none\; background-attachment: initial\; background-size: initial\; background-origin: initial\; background-clip: initial\; background-position: initial\; background-repeat: initial\;" />\n<span style="color: rgb(63\, 63\, 63)\; font-family: 'Helvetica Neue'\, Helvetica\, Arial\, sans-serif\; font-size: 14px\; line-height: 18.2px\;">Weigh-in\, silent auction and raffles on Saturday\, August 5th starting at 1pm. Followed by a great party.</span>
LOCATION:Marina Jack 1 Marina Plaza Sarasota\, FL 34236 or LATITUDE 29' 19.98 LONGITUDE 82' 2.78
UID:e.9232.1590
SEQUENCE:3
DTSTAMP:20260422T201856Z
URL:https://business.suncoastba.org/events/details/2017-sarasota-slam-msbia-fishing-tournament-1590
END:VEVENT

END:VCALENDAR
