BEGIN:VCALENDAR
VERSION:2.0
PRODID:-//ChamberMaster//Event Calendar 2.0//EN
METHOD:PUBLISH
X-PUBLISHED-TTL:P3D
REFRESH-INTERVAL:P3D
CALSCALE:GREGORIAN
BEGIN:VEVENT
DTSTART:20180214T133000Z
DTEND:20180215T030000Z
X-MICROSOFT-CDO-ALLDAYEVENT:FALSE
SUMMARY:2018 Parade of Homes Realtor Preview
DESCRIPTION:Realtors join us for Breakfast with the Builders! Meet and Greet their sales teams! Get the exclusive first peek at the 2018 Parade of Homes entries.
X-ALT-DESC;FMTTYPE=text/html:<span background-color:="" font-size:="" helvetica="" style="color: rgb(63\, 63\, 63)\; font-family: ">Realtors join us for Breakfast with the Builders! Meet and Greet their sales teams! Get the exclusive first peek at the 2018 Parade of Homes entries.</span>
LOCATION:Polo Grill - Fete Ballroom 10670 Boardwalk Loop Lakewood Ranch (Main Street)
UID:e.9232.1790
SEQUENCE:3
DTSTAMP:20260423T054622Z
URL:https://business.suncoastba.org/events/details/2018-parade-of-homes-realtor-preview-1790
END:VEVENT

END:VCALENDAR
