BEGIN:VCALENDAR
VERSION:2.0
PRODID:-//ChamberMaster//Event Calendar 2.0//EN
METHOD:PUBLISH
X-PUBLISHED-TTL:P3D
REFRESH-INTERVAL:P3D
CALSCALE:GREGORIAN
BEGIN:VEVENT
DTSTART:20230413T220000Z
DTEND:20230414T000000Z
X-MICROSOFT-CDO-ALLDAYEVENT:FALSE
SUMMARY:2023 Axe Throwing and General Membership Mixer
DESCRIPTION:Join us for a fun night of axe throwing and amazing food from the award-winning Big Blue Grilled Cheese Food Truck! Mix and mingle with current members and bring a potential new member.
X-ALT-DESC;FMTTYPE=text/html:Join us for a fun night of axe throwing and amazing food from the award-winning Big Blue Grilled Cheese Food Truck! Mix and mingle with current members and bring a potential new member.&nbsp\;
LOCATION:The event will be held at the MSBIA office in the front parking lot. The event will be tailgate style - feel free to bring folding chairs or blankets!
UID:e.9232.3201
SEQUENCE:3
DTSTAMP:20260421T185702Z
URL:https://business.suncoastba.org/events/details/2023-axe-throwing-and-general-membership-mixer-3201
END:VEVENT

END:VCALENDAR
