BEGIN:VCALENDAR
VERSION:2.0
PRODID:-//ChamberMaster//Event Calendar 2.0//EN
METHOD:PUBLISH
X-PUBLISHED-TTL:P3D
REFRESH-INTERVAL:P3D
CALSCALE:GREGORIAN
BEGIN:VEVENT
DTSTART:20231116T220000Z
DTEND:20231117T010000Z
X-MICROSOFT-CDO-ALLDAYEVENT:FALSE
SUMMARY:2023 Cowboy Boots & Business Suits: A Hoedown Member Mixer
DESCRIPTION:Saddle up and join us for an exciting evening at "Cowboy Boots and Business Suits: A Hoedown Member Mixer"!\n\nThursday\, November 16\, 2023\n\nTime: 5:00 PM - 8:00 PM\n\nTickets: $20 Member/ $30 Non-Member\n\n\n\nGet ready to kick up your heels and connect with fellow professionals in a unique and lively setting. Indulge in food\, drinks\, and experience the thrill of line dancing as you mingle and network with like-minded individuals. Dust off those boots and enter a night filled with delicious food\, great company\, and unforgettable memories. Don't miss out on this exceptional opportunity to combine the spirit of the Wild West with professional networking!
X-ALT-DESC;FMTTYPE=text/html:<div style="text-align: center\;"><span style="font-size:24px\;"><strong><span style="color:#8B4513\;">Saddle up and join us for an exciting evening at &quot\;Cowboy Boots and Business Suits: A Hoedown Member Mixer&quot\;!<br />\n<span style="font-size:18px\;">Thursday\, November 16\, 2023<br />\nTime: 5:00 PM - 8:00 PM<br />\nTickets: $20 Member/ $30 Non-Member</span></span><br />\n<br />\n<span style="font-size:20px\;">Get ready to kick up your heels and connect with fellow professionals in a unique and lively setting. Indulge in food\, drinks\, and experience the thrill of line dancing as you mingle and network with like-minded individuals. Dust off those boots and enter a night filled with delicious food\, great company\, and unforgettable memories. Don&#39\;t miss out on this exceptional opportunity to combine the spirit of the Wild West with professional networking!</span></strong></span></div>\n
LOCATION:Sarasota Farm Bureau Pavilion 7298 Palmer Blvd Sarasota\, FL 34240
UID:e.9232.3231
SEQUENCE:3
DTSTAMP:20260421T083228Z
URL:https://business.suncoastba.org/events/details/2023-cowboy-boots-business-suits-a-hoedown-member-mixer-3231
END:VEVENT

END:VCALENDAR
