BEGIN:VCALENDAR
VERSION:2.0
PRODID:-//ChamberMaster//Event Calendar 2.0//EN
METHOD:PUBLISH
X-PUBLISHED-TTL:P3D
REFRESH-INTERVAL:P3D
CALSCALE:GREGORIAN
BEGIN:VEVENT
DTSTART:20230831T210000Z
DTEND:20230901T000000Z
X-MICROSOFT-CDO-ALLDAYEVENT:FALSE
SUMMARY:2023 Member Mingle- Waterside LWR
DESCRIPTION:JOIN US FOR A MEMBER MINGLE!\n\nThursday\, August 31\, 2023\n\n5:00-8:00 PM\n\n\n\nCome and be a part of our highly anticipated member mingle at beautiful Waterside in Lakewood Ranch. Get ready for an unforgettable evening starting at 5:00 PM at Good Liquid Brewing Company. It's the perfect opportunity to relax\, connect\, and mingle with fellow members of the BIA. Join us for a delightful and engaging event that promises to be both enjoyable and beneficial. Don't miss out on this incredible chance to have a great time and create meaningful connections with the BIA community.
X-ALT-DESC;FMTTYPE=text/html:<div style="text-align: center\;"><span style="color:#9e635d\;"><span style="font-size:36px\;"><strong>JOIN US FOR A MEMBER MINGLE!</strong></span></span><br />\n<strong><span style="font-size:18px\;"><span style="font-size:24px\;">Thursday\, August 31\, 2023<br />\n5:00-8:00 PM<br />\n<br />\nCome and be a part of our highly anticipated member mingle at beautiful Waterside in Lakewood Ranch. Get ready for an unforgettable evening starting at 5:00 PM at Good Liquid Brewing Company. It&#39\;s the perfect opportunity to relax\, connect\, and mingle with fellow members of the BIA. Join us for a delightful and engaging event that promises to be both enjoyable and beneficial. Don&#39\;t miss out on this incredible chance to have a great time and create meaningful connections with the BIA community.</span></span></strong></div>\n
LOCATION:Good Liquid Brewing Company 1570 Lakefront Dr Sarasota\, FL 34240
UID:e.9232.3227
SEQUENCE:3
DTSTAMP:20260421T123612Z
URL:https://business.suncoastba.org/events/details/2023-member-mingle-waterside-lwr-3227
END:VEVENT

END:VCALENDAR
