BEGIN:VCALENDAR
VERSION:2.0
PRODID:-//ChamberMaster//Event Calendar 2.0//EN
METHOD:PUBLISH
X-PUBLISHED-TTL:P3D
REFRESH-INTERVAL:P3D
CALSCALE:GREGORIAN
BEGIN:VEVENT
DTSTART:20230914T213000Z
DTEND:20230915T010000Z
X-MICROSOFT-CDO-ALLDAYEVENT:FALSE
SUMMARY:2023 SMC Celebration of Excellence Awards
DESCRIPTION:YOU ARE INVITED TO THE 2023 SMC CELEBRATION OF EXCELLENCE AWARDS GALA!\n\n\n\nWe cordially invite you to participate in the highly anticipated annual Celebration of Excellence\, where we honor outstanding achievements in Sales and Marketing. This year\, we're taking the festivities to a new level with our enchanting masquerade ball theme. Get ready to don your most glamorous attire and immerse yourself in a night filled with intrigue\, charm\, and delightful surprises. Join us as we celebrate success\, recognize exceptional talent\, and create unforgettable memories. Don't miss out on this extraordinary event that promises an evening of mystery\, excitement\, and unparalleled enjoyment.\n\n\n\nWould you like to apply for an award?\n\nClick Here for the editable Celebration of Excellence Awards Application\n\nWould you like to sponsor this event?\n\nClick Here for Celebration of Excellence Sponsorship Opportunities
X-ALT-DESC;FMTTYPE=text/html:<div style="text-align: center\;"><span style="font-size:26px\;"><strong><span style="color:#4B0082\;">YOU ARE INVITED TO THE 2023 SMC CELEBRATION OF EXCELLENCE AWARDS GALA!</span></strong></span></div>\n\n<p style="text-align: center\;"><br />\n<span style="font-size:20px\;">We cordially invite you to participate in the highly anticipated annual Celebration of Excellence\, where we honor outstanding achievements in Sales and Marketing. This year\, we&#39\;re taking the festivities to a new level with our enchanting masquerade ball theme. Get ready to don your most glamorous attire and immerse yourself in a night filled with intrigue\, charm\, and delightful surprises. Join us as we celebrate success\, recognize exceptional talent\, and create unforgettable memories. Don&#39\;t miss out on this extraordinary event that promises an evening of mystery\, excitement\, and unparalleled enjoyment.<br />\n<br />\n<strong>Would you like to apply for an award?</strong></span></p>\n\n<p><span style="font-size:20px\;"><a href="https://chambermaster.blob.core.windows.net/userfiles/UserFiles/chambers/9232/File/EditableEntryForm.pdf">Click Here</a>&nbsp\;for the editable Celebration of Excellence&nbsp\;Awards Application</span></p>\n\n<p style="text-align: center\;"><strong style="font-size: 20px\; text-align: center\;">Would you like to sponsor this event?</strong></p>\n\n<p><span style="font-size:20px\;"><a href="https://chambermaster.blob.core.windows.net/userfiles/UserFiles/chambers/9232/File/2023/SMCCelebrationofExcellenceSponsorshipPackage2023.pdf">Click Here</a> for Celebration of Excellence Sponsorship Opportunities</span></p>\n
LOCATION:Hyatt Regency Sarasota 1000 Boulevard of the Arts Sarasota\, FL 34236
UID:e.9232.3228
SEQUENCE:3
DTSTAMP:20260421T105426Z
URL:https://business.suncoastba.org/events/details/2023-smc-celebration-of-excellence-awards-3228
END:VEVENT

END:VCALENDAR
