BEGIN:VCALENDAR
VERSION:2.0
PRODID:-//ChamberMaster//Event Calendar 2.0//EN
METHOD:PUBLISH
X-PUBLISHED-TTL:P3D
REFRESH-INTERVAL:P3D
CALSCALE:GREGORIAN
BEGIN:VEVENT
DTSTART:20230428T120000Z
DTEND:20230428T190000Z
X-MICROSOFT-CDO-ALLDAYEVENT:FALSE
SUMMARY:2023 Spring Golf Tournament
DESCRIPTION:Join us for the annual Spring Golf Tournament presented by Lennar.\n\n\n\nDon't Golf? Be a SPONSOR! If you don't golf and want to network with the local building industry professionals\, we suggest you sponsor a staffed tee where you will have the opportunity to meet everyone out on the course!
X-ALT-DESC;FMTTYPE=text/html:<span style="background-color: rgb(255\, 255\, 255)\; color: rgb(29\, 33\, 41)\; font-family: Helvetica\, Arial\, sans-serif\; font-size: 14px\;">Join us for the annual Spring Golf Tournament presented by Lennar.</span><br />\n<br style="background-color: rgb(255\, 255\, 255)\; color: rgb(29\, 33\, 41)\; font-family: Helvetica\, Arial\, sans-serif\; font-size: 14px\;" />\n<span style="background-color: rgb(255\, 255\, 255)\; color: rgb(29\, 33\, 41)\; font-family: Helvetica\, Arial\, sans-serif\; font-size: 14px\;">Don&#39\;t Golf? Be a SPONSOR! If you don&#39\;t golf and want to network with the local building industry professionals\, we suggest you sponsor a staffed tee where you will have the opportunity to meet everyone out on the course!</span><br font-size:="" style="color: rgb(51\, 51\, 51)\; font-family: sans-serif\, Arial\, Verdana\, " trebuchet="" />\n<br font-size:="" style="color: rgb(51\, 51\, 51)\; font-family: sans-serif\, Arial\, Verdana\, " trebuchet="" />\n<br />\n<br />\n<br />\n&nbsp\;
LOCATION:12060 Wellen Golf St\, Venice\, FL 34293
UID:e.9232.3202
SEQUENCE:3
DTSTAMP:20260421T184928Z
URL:https://business.suncoastba.org/events/details/2023-spring-golf-tournament-3202
END:VEVENT

END:VCALENDAR
