BEGIN:VCALENDAR
VERSION:2.0
PRODID:-//ChamberMaster//Event Calendar 2.0//EN
METHOD:PUBLISH
X-PUBLISHED-TTL:P3D
REFRESH-INTERVAL:P3D
CALSCALE:GREGORIAN
BEGIN:VEVENT
DTSTART:20250213T220000Z
DTEND:20250214T000000Z
X-MICROSOFT-CDO-ALLDAYEVENT:FALSE
SUMMARY:3rd Annual Chili Cook Off
DESCRIPTION:Bring the heat with your best homemade chili and compete for amazing prizes or come hungry and ready to enjoy a delicious variety of chili! Gumbo lovers\, you're welcome to join the fun\, too!\n\nThink your dish has what it takes to win? Enter to compete or simply savor the flavors as a taster and cast your vote for the People's Choice Award!\n\n  Great food\, fun vibes\, and fiery competition await!\n\nDon't miss this sizzling event let's make it a night to remember!
X-ALT-DESC;FMTTYPE=text/html:<p><span style="font-size:16px\;"><span style="font-family:times new roman\;">Bring the heat with your best homemade chili and compete for <strong>amazing prizes</strong>&mdash\;or come hungry and ready to enjoy a delicious variety of chili! Gumbo lovers\, you&rsquo\;re welcome to join the fun\, too!</span></span></p>\n\n<p><span style="font-size:16px\;"><span style="font-family:times new roman\;">Think your dish has what it takes to win? Enter to compete or simply savor the flavors as a taster and cast your vote for the People&#39\;s Choice Award!</span></span></p>\n\n<p><span style="font-size:16px\;"><span style="font-family:times new roman\;">&#127881\; Great food\, fun vibes\, and fiery competition await!</span></span></p>\n\n<p><span style="font-size:16px\;"><span style="font-family:times new roman\;">Don&rsquo\;t miss this sizzling event&mdash\;let&rsquo\;s make it a night to remember!</span></span></p>\n
LOCATION:Suncoast Builders Association 6650 Professional Parkway West Suite 102 Sarasota\, 34240
UID:e.9232.4345
SEQUENCE:3
DTSTAMP:20260421T141708Z
URL:https://business.suncoastba.org/events/details/3rd-annual-chili-cook-off-4345
END:VEVENT

END:VCALENDAR
