BEGIN:VCALENDAR
VERSION:2.0
PRODID:-//ChamberMaster//Event Calendar 2.0//EN
METHOD:PUBLISH
X-PUBLISHED-TTL:P3D
REFRESH-INTERVAL:P3D
CALSCALE:GREGORIAN
BEGIN:VEVENT
DTSTART:20180322T120000Z
DTEND:20180322T203000Z
X-MICROSOFT-CDO-ALLDAYEVENT:FALSE
SUMMARY:6th Edition of the Florida Building Code
DESCRIPTION:JC Code & Construction Consultants\, Inc. in partnership with the Florida Home Builders Association (FHBA) offers 7.0 hours of Florida Building Code continuing education.\n\n \n\nLearn all about the 6th Edition of the Florida Building Code.
X-ALT-DESC;FMTTYPE=text/html:<div>JC Code &amp\; Construction Consultants\, Inc. in partnership with the Florida Home Builders Association (FHBA) offers 7.0 hours of Florida Building Code continuing education.</div>\n\n<div>&nbsp\;</div>\n\n<div>Learn all about the 6th Edition of the Florida Building Code.</div>\n
LOCATION:Kimal Lumber 11184 Hughey-Kimal Avenue Venice\, FL 34292
UID:e.9232.1855
SEQUENCE:3
DTSTAMP:20260423T071709Z
URL:https://business.suncoastba.org/events/details/6th-edition-of-the-florida-building-code-1855
END:VEVENT

END:VCALENDAR
