BEGIN:VCALENDAR
VERSION:2.0
PRODID:-//ChamberMaster//Event Calendar 2.0//EN
METHOD:PUBLISH
X-PUBLISHED-TTL:P3D
REFRESH-INTERVAL:P3D
CALSCALE:GREGORIAN
BEGIN:VEVENT
DTSTART:20160113T210000Z
DTEND:20160113T220000Z
X-MICROSOFT-CDO-ALLDAYEVENT:FALSE
SUMMARY:Associate & Trades Committee
DESCRIPTION:ASSOCIATE & TRADES COMMITTEE is open to all Associate Members of the Association. We will determine in January the regularly scheduled meeting dates. \n\n \n\nThe Committee is responsible for:\n\n\n	developing programs and services to support the needs of the associate members\n	including securing sponsors\, \n	contributing ideas\, \n	promoting and assisting with the Associate Appreciation Trade Show\, \n	promoting and assisting with the Spring Golf Tournament\, \n	promoting "Doing Business with Member" principals
X-ALT-DESC;FMTTYPE=text/html:<span style="color:#006699\;"><strong><span style="font-family:calibri\,sans-serif\;"><span style="font-size:11.0pt\;">ASSOCIATE &amp\; TRADES COMMITTEE</span></span></strong></span><span style="color:black\;"><span style="font-family:calibri\,sans-serif\;"><span style="font-size:11.0pt\;"> is open to all Associate Members of the Association. We will determine in January the regularly scheduled meeting dates.&nbsp\;</span></span></span><br />\n&nbsp\;<br />\n<span style="color:black\;"><span style="font-family:calibri\,sans-serif\;"><span style="font-size:11.0pt\;">The Committee is responsible for:</span></span></span>\n\n<ul>\n	<li style="margin-top:0in\;margin-right:0in\;margin-bottom:0in\;margin-bottom:.0001pt\;"><span style="color:black\;"><span style="font-family:calibri\,sans-serif\;"><span style="font-size:11.0pt\;">developing programs and services to support the needs of the associate members</span></span></span></li>\n	<li style="margin-top:0in\;margin-right:0in\;margin-bottom:0in\;margin-bottom:.0001pt\;"><span style="color:black\;"><span style="font-family:calibri\,sans-serif\;"><span style="font-size:11.0pt\;">including securing sponsors\, </span></span></span></li>\n	<li style="margin-top:0in\;margin-right:0in\;margin-bottom:0in\;margin-bottom:.0001pt\;"><span style="color:black\;"><span style="font-family:calibri\,sans-serif\;"><span style="font-size:11.0pt\;">contributing ideas\, </span></span></span></li>\n	<li style="margin-top:0in\;margin-right:0in\;margin-bottom:0in\;margin-bottom:.0001pt\;"><span style="color:black\;"><span style="font-family:calibri\,sans-serif\;"><span style="font-size:11.0pt\;">promoting and assisting with the Associate Appreciation Trade Show\, </span></span></span></li>\n	<li style="margin-top:0in\;margin-right:0in\;margin-bottom:0in\;margin-bottom:.0001pt\;"><span style="color:black\;"><span style="font-family:calibri\,sans-serif\;"><span style="font-size:11.0pt\;">promoting and assisting with the Spring Golf Tournament\, </span></span></span></li>\n	<li style="margin-top:0in\;margin-right:0in\;margin-bottom:0in\;margin-bottom:.0001pt\;"><span style="color:black\;"><span style="font-family:calibri\,sans-serif\;"><span style="font-size:11.0pt\;">promoting &ldquo\;Doing Business with Member&rdquo\; principals</span></span></span></li>\n</ul>\n
LOCATION:MSBIA Office 6983 Professional Parkway East Sarasota\, FL 34240
UID:e.9232.1226
SEQUENCE:3
DTSTAMP:20260421T122926Z
URL:https://business.suncoastba.org/events/details/associate-trades-committee-01-13-2016-1226
END:VEVENT

END:VCALENDAR
