BEGIN:VCALENDAR
VERSION:2.0
PRODID:-//ChamberMaster//Event Calendar 2.0//EN
METHOD:PUBLISH
X-PUBLISHED-TTL:P3D
REFRESH-INTERVAL:P3D
CALSCALE:GREGORIAN
BEGIN:VEVENT
DTSTART:20160413T200000Z
DTEND:20160413T210000Z
X-MICROSOFT-CDO-ALLDAYEVENT:FALSE
SUMMARY:Associate & Trades Committee
DESCRIPTION:Associate / Trades Committee helps plan Association Events such as Golf Tournament\, Associate Appreciation Night and Trade Show\; Clay Shoot\, etc...
X-ALT-DESC;FMTTYPE=text/html:Associate / Trades Committee helps plan Association Events such as Golf Tournament\, Associate Appreciation Night and Trade Show\; Clay Shoot\, etc...
LOCATION:MS-BIA\, 6983 Professional Parkway East\, Sarasota\, FL 34240 941.907.4133 x303
UID:e.9232.1521
SEQUENCE:3
DTSTAMP:20260421T161741Z
URL:https://business.suncoastba.org/events/details/associate-trades-committee-04-13-2016-1521
END:VEVENT

END:VCALENDAR
