BEGIN:VCALENDAR
VERSION:2.0
PRODID:-//ChamberMaster//Event Calendar 2.0//EN
METHOD:PUBLISH
X-PUBLISHED-TTL:P3D
REFRESH-INTERVAL:P3D
CALSCALE:GREGORIAN
BEGIN:VEVENT
DTSTART:20151029T220000Z
DTEND:20151030T010000Z
X-MICROSOFT-CDO-ALLDAYEVENT:FALSE
SUMMARY:BACK IN THE BLACK - SMC Sales & Marketing Awards
DESCRIPTION:For more information on how to register for either Sales or Marketing Awards\, please contact Beverly@ms-bia.org
X-ALT-DESC;FMTTYPE=text/html:For more information on how to register for either Sales or Marketing Awards\, please contact Beverly@ms-bia.org<br />\n&nbsp\;
LOCATION:Sarasota Hyatt 1000 Blvd of the Arts Sarasota\, FL 34236
UID:e.9232.904
SEQUENCE:3
DTSTAMP:20260421T155418Z
URL:https://business.suncoastba.org/events/details/back-in-the-black-smc-sales-marketing-awards-10-29-2015-904
END:VEVENT

END:VCALENDAR
