BEGIN:VCALENDAR
VERSION:2.0
PRODID:-//ChamberMaster//Event Calendar 2.0//EN
METHOD:PUBLISH
X-PUBLISHED-TTL:P3D
REFRESH-INTERVAL:P3D
CALSCALE:GREGORIAN
BEGIN:VEVENT
DTSTART:20220426T213000Z
DTEND:20220426T233000Z
X-MICROSOFT-CDO-ALLDAYEVENT:FALSE
SUMMARY:Beards\, Botox and Bubbly
DESCRIPTION:Join us for Beards\, Botox and Bubbly hosted by the PWB & SMC councils.\n\n\n\nDiscounted Botox\, free hand massages\, giveaways\, food and bubbly!\n\n\n\nFree samples from Bad Ass Beard Care\, Veteran owned and American operated.
X-ALT-DESC;FMTTYPE=text/html:Join us for Beards\, Botox and Bubbly hosted by the PWB &amp\; SMC councils.<br />\n<br />\nDiscounted Botox\, free hand massages\, giveaways\, food and bubbly!<br />\n<br />\nFree samples from <a href="http://badassbeardcare.com">Bad Ass Beard Care</a>\, Veteran owned and American operated.
LOCATION:The Center for Skin & Wellness 6771 Professional Pkwy W #202 Sarasota\, FL 34240
UID:e.9232.2977
SEQUENCE:3
DTSTAMP:20260422T124617Z
URL:https://business.suncoastba.org/events/details/beards-botox-and-bubbly-2977
END:VEVENT

END:VCALENDAR
