BEGIN:VCALENDAR
VERSION:2.0
PRODID:-//ChamberMaster//Event Calendar 2.0//EN
METHOD:PUBLISH
X-PUBLISHED-TTL:P3D
REFRESH-INTERVAL:P3D
CALSCALE:GREGORIAN
BEGIN:VEVENT
DTSTART:20160707T200000Z
DTEND:20160707T210000Z
X-MICROSOFT-CDO-ALLDAYEVENT:FALSE
SUMMARY:Board of Directors Meeting
DESCRIPTION:Executive Board meets from 3pm - 4pm\n\nFull Board meets from 4pm - 5pm
X-ALT-DESC;FMTTYPE=text/html:Executive Board meets from 3pm - 4pm<br>\nFull Board meets from 4pm - 5pm
LOCATION:MSBIA Office 6983 Professional Parkway East Sarasota\, FL 34240
UID:e.9232.453
SEQUENCE:3
DTSTAMP:20260421T213724Z
URL:https://business.suncoastba.org/events/details/board-of-directors-meeting-07-07-2016-453
END:VEVENT

END:VCALENDAR
