BEGIN:VCALENDAR
VERSION:2.0
PRODID:-//ChamberMaster//Event Calendar 2.0//EN
METHOD:PUBLISH
X-PUBLISHED-TTL:P3D
REFRESH-INTERVAL:P3D
CALSCALE:GREGORIAN
BEGIN:VEVENT
DTSTART:20220310T220000Z
DTEND:20220310T230000Z
X-MICROSOFT-CDO-ALLDAYEVENT:FALSE
SUMMARY:Board of Directors Meeting
DESCRIPTION:Executive Board meets from 4:00pm-5:00pm\n\nFull Board meets from 5:00pm-6:00pm
X-ALT-DESC;FMTTYPE=text/html:Executive Board meets from 4:00pm-5:00pm<br />\nFull Board meets from 5:00pm-6:00pm
LOCATION:MSBIA Office 6650 Professional Pkwy W Suite 102 Sarasota\, FL 34240
UID:e.9232.2693
SEQUENCE:3
DTSTAMP:20260422T143431Z
URL:https://business.suncoastba.org/events/details/board-of-directors-meeting-2693
END:VEVENT

END:VCALENDAR
