BEGIN:VCALENDAR
VERSION:2.0
PRODID:-//ChamberMaster//Event Calendar 2.0//EN
METHOD:PUBLISH
X-PUBLISHED-TTL:P3D
REFRESH-INTERVAL:P3D
CALSCALE:GREGORIAN
BEGIN:VEVENT
DTSTART:20230713T210000Z
DTEND:20230713T220000Z
X-MICROSOFT-CDO-ALLDAYEVENT:FALSE
SUMMARY:Board of Directors Meeting @ PGT
DESCRIPTION:Executive Board meets from 4:00pm - 5:00pm\n\nFull Board meets from 5:00pm - 6:00pm
X-ALT-DESC;FMTTYPE=text/html:Executive Board meets from 4:00pm - 5:00pm<br />\nFull Board meets from 5:00pm - 6:00pm
LOCATION:1070 Technology Dr\, North Venice\, FL 34275
UID:e.9232.3171
SEQUENCE:3
DTSTAMP:20260421T135945Z
URL:https://business.suncoastba.org/events/details/board-of-directors-meeting-pgt-3171
END:VEVENT

END:VCALENDAR
