BEGIN:VCALENDAR
VERSION:2.0
PRODID:-//ChamberMaster//Event Calendar 2.0//EN
METHOD:PUBLISH
X-PUBLISHED-TTL:P3D
REFRESH-INTERVAL:P3D
CALSCALE:GREGORIAN
BEGIN:VEVENT
DTSTART:20200716T200000Z
DTEND:20200717T000000Z
X-MICROSOFT-CDO-ALLDAYEVENT:FALSE
SUMMARY:Botox\, Bubbles & Bourbon
DESCRIPTION:Join the ladies of the Professional Women in Building Council for an evening filled with Botox\, Champagne and Bourbon!  We will also have a photographer for your updated professional headshots available!  Sign up today because space is limited.
X-ALT-DESC;FMTTYPE=text/html:Join the ladies of the Professional Women in Building Council for an evening filled with Botox\, Champagne and Bourbon!&nbsp\; We will also have a photographer for your updated professional headshots available!&nbsp\; Sign up today because space is limited.&nbsp\;
LOCATION:MSBIA Office 6650 Professional Parkway West Sarasota\, FL 34240
UID:e.9232.2607
SEQUENCE:3
DTSTAMP:20260423T195734Z
URL:https://business.suncoastba.org/events/details/botox-bubbles-bourbon-2607
END:VEVENT

END:VCALENDAR
