BEGIN:VCALENDAR
VERSION:2.0
PRODID:-//ChamberMaster//Event Calendar 2.0//EN
METHOD:PUBLISH
X-PUBLISHED-TTL:P3D
REFRESH-INTERVAL:P3D
CALSCALE:GREGORIAN
BEGIN:VEVENT
DTSTART:20210114T230000Z
DTEND:20210115T010000Z
X-MICROSOFT-CDO-ALLDAYEVENT:FALSE
SUMMARY:Builders & Bourbon
DESCRIPTION:Come mingle with fellow members or if you are not a member come see what the MSBIA is all about! Bring your own Bourbon to share and your best Appetizer to participate in our 1st ever Appetizer competition!!!!
X-ALT-DESC;FMTTYPE=text/html:Come mingle with fellow members or if you are not a member come see what the MSBIA is all about! Bring your own Bourbon to share and your best Appetizer to participate in our 1st ever Appetizer competition!!!!<br />\n<br />\n&nbsp\;
LOCATION:6650 Professional Pkwy West Suite 102 Sarasota\, FL 34240
UID:e.9232.2627
SEQUENCE:3
DTSTAMP:20260423T093337Z
URL:https://business.suncoastba.org/events/details/builders-bourbon-2627
END:VEVENT

END:VCALENDAR
