BEGIN:VCALENDAR
VERSION:2.0
PRODID:-//ChamberMaster//Event Calendar 2.0//EN
METHOD:PUBLISH
X-PUBLISHED-TTL:P3D
REFRESH-INTERVAL:P3D
CALSCALE:GREGORIAN
BEGIN:VEVENT
DTSTART:20251107T120000Z
DTEND:20251107T150000Z
X-MICROSOFT-CDO-ALLDAYEVENT:FALSE
SUMMARY:Builders Breakfast at 6051 Design Source
DESCRIPTION:Join Design Source at the 6051 Design Source Showroom for a casual breakfast\, coffee\, and networking at the Builder's Breakfast.\n\nREGISTER HERE:\n\nBuilder's Breakfast at 6051 Design Source Tickets\, Fri\, Nov 7\, 2025 at 8:00 AM | Eventbrite
X-ALT-DESC;FMTTYPE=text/html:<span style="font-weight: 600\; box-sizing: border-box\; color: rgb(57\, 54\, 79)\; font-family: &quot\;Neue Plak&quot\;\; font-size: 18px\;">Join Design Source at the 6051 Design Source Showroom for a casual breakfast\, coffee\, and networking at the Builder&#39\;s Breakfast.<br />\nREGISTER HERE:</span><br />\n<a href="https://www.eventbrite.com/e/builders-breakfast-at-6051-design-source-tickets-1669652879709?aff=oddtdtcreator">Builder&#39\;s Breakfast at 6051 Design Source Tickets\, Fri\, Nov 7\, 2025 at 8:00 AM | Eventbrite</a>
LOCATION:6051 North Washington Boulevard Sarasota\, FL 34243
UID:e.9232.5300
SEQUENCE:3
DTSTAMP:20260421T234513Z
URL:https://business.suncoastba.org/events/details/builders-breakfast-at-6051-design-source-5300
END:VEVENT

END:VCALENDAR
