BEGIN:VCALENDAR
VERSION:2.0
PRODID:-//ChamberMaster//Event Calendar 2.0//EN
METHOD:PUBLISH
X-PUBLISHED-TTL:P3D
REFRESH-INTERVAL:P3D
CALSCALE:GREGORIAN
BEGIN:VEVENT
DTSTART:20170413T123000Z
DTEND:20170413T203000Z
X-MICROSOFT-CDO-ALLDAYEVENT:FALSE
SUMMARY:Building Code Training Session
DESCRIPTION:Learn the 6th Edition of the Florida Building Code and Earn 7 FREE CEU'S!\n\nJC Code & Construction Consultants\, Inc. in partnership with the Florida Home Builders Association (FHBA) offers 7.0 hours of Florida Building Code continuing education. Funding for this training is provided by a grant from the Florida Building Commission\, Department of Business and Professional Regulation (DBPR)\, administered through Building A Safer Florida\, Inc. (BASF) and is open to most DBPR licensed professionals. Certificates of completion are provided with continuing education hours uploaded electronically into the DBPR database. JC Code & Construction Consultants\, Inc. is an approved continuing education provider by the CILB\, BCAIB\, FBAID\, and FBPE.\n \n\nThe 6th Edition\, 2017 Florida Building Code has a tentative effective date of December 31\, 2017.\n\n                         \n\nCourse Information:\n\n2014 Advanced FBC Update\n\n2.0 hrs. | FBC: 801.1  | BCAIB: Reciprocity | CILB: 0612011 | FBPE: 0009142 | ICC: 9954\n\nSignificant Changes to the FBC\, Residential Volume\, 6th Edition\n\n2.0 hrs. | BCAIB: * | CILB: 0612042 | FBAID: 9878568 | FBPE: 0009142 | ICC: 9949\n\nUnderstanding the Energy Rating Index (ERI) Compliance Method\n\n2.0 hrs. | BCAIB: * | CILB: 0611914 | FBPE: 0009142 | ICC: 8712\n\nWind Mitigation Opening Protection Under the FBC\, Residential Volume\, 6th Edition\n\n1.0 hr. | BCAIB: * | CILB: 0612096 | FBAID: 9878572 | FBPE: 0009143 | ICC: 10618
X-ALT-DESC;FMTTYPE=text/html:<p style="box-sizing: border-box\; background-image: initial\; background-position: initial\; background-size: initial\; background-repeat: initial\; background-attachment: initial\; background-origin: initial\; background-clip: initial\; border: 0px\; margin: 0px\; padding: 0px 0px 20px\; vertical-align: baseline\; outline: none\; color: rgb(112\, 112\, 112)\; font-family: Roboto\, Arial\, Helvetica\, &quot\;Nimbus Sans L&quot\;\, sans-serif\;"><strong style="box-sizing: border-box\; background: transparent\; border: 0px\; margin: 0px\; padding: 0px\; vertical-align: baseline\; outline: none\;"><span style="box-sizing: border-box\; background: transparent\; border: 0px\; margin: 0px\; padding: 0px\; vertical-align: baseline\; outline: none\; font-size: 12pt\;">Learn the 6th Edition of the Florida Building Code and Earn 7 FREE CEU&rsquo\;S!</span></strong></p>\n\n<p style="box-sizing: border-box\; background-image: initial\; background-position: initial\; background-size: initial\; background-repeat: initial\; background-attachment: initial\; background-origin: initial\; background-clip: initial\; border: 0px\; margin: 0px\; padding: 0px 0px 20px\; vertical-align: baseline\; outline: none\; color: rgb(112\, 112\, 112)\; font-family: Roboto\, Arial\, Helvetica\, &quot\;Nimbus Sans L&quot\;\, sans-serif\;"><span style="box-sizing: border-box\; background: transparent\; border: 0px\; margin: 0px\; padding: 0px\; vertical-align: baseline\; outline: none\; font-size: 12pt\;">JC Code &amp\; Construction Consultants\, Inc. in partnership with the Florida Home Builders Association (FHBA) offers 7.0 hours of Florida Building Code continuing education. Funding for this training is provided by a grant from the Florida Building Commission\, Department of Business and Professional Regulation (DBPR)\, administered through Building A Safer Florida\, Inc. (BASF) and is open to most DBPR licensed professionals. Certificates of completion are provided with continuing education hours uploaded electronically into the DBPR database. JC Code &amp\; Construction Consultants\, Inc. is an approved continuing education provider by the CILB\, BCAIB\, FBAID\, and FBPE.</span></p>\n&nbsp\;\n\n<p style="box-sizing: border-box\; background-image: initial\; background-position: initial\; background-size: initial\; background-repeat: initial\; background-attachment: initial\; background-origin: initial\; background-clip: initial\; border: 0px\; margin: 0px\; padding: 0px 0px 20px\; vertical-align: baseline\; outline: none\; color: rgb(112\, 112\, 112)\; font-family: Roboto\, Arial\, Helvetica\, &quot\;Nimbus Sans L&quot\;\, sans-serif\;"><span style="box-sizing: border-box\; background: transparent\; border: 0px\; margin: 0px\; padding: 0px\; vertical-align: baseline\; outline: none\; font-size: 12pt\;">The 6th Edition\, 2017 Florida Building Code has a tentative effective date of December 31\, 2017.</span></p>\n\n<p style="box-sizing: border-box\; background-image: initial\; background-position: initial\; background-size: initial\; background-repeat: initial\; background-attachment: initial\; background-origin: initial\; background-clip: initial\; border: 0px\; margin: 0px\; padding: 0px 0px 20px\; vertical-align: baseline\; outline: none\; color: rgb(112\, 112\, 112)\; font-family: Roboto\, Arial\, Helvetica\, &quot\;Nimbus Sans L&quot\;\, sans-serif\;">&ndash\; &nbsp\; &nbsp\; &ndash\; &nbsp\; &nbsp\; &ndash\; &nbsp\; &nbsp\; &ndash\; &nbsp\; &nbsp\; &ndash\;</p>\n\n<p style="box-sizing: border-box\; background-image: initial\; background-position: initial\; background-size: initial\; background-repeat: initial\; background-attachment: initial\; background-origin: initial\; background-clip: initial\; border: 0px\; margin: 0px\; padding: 0px 0px 20px\; vertical-align: baseline\; outline: none\; color: rgb(112\, 112\, 112)\; font-family: Roboto\, Arial\, Helvetica\, &quot\;Nimbus Sans L&quot\;\, sans-serif\;"><span style="box-sizing: border-box\; background: transparent\; border: 0px\; margin: 0px\; padding: 0px\; vertical-align: baseline\; outline: none\; font-size: 12pt\;"><strong style="box-sizing: border-box\; background: transparent\; border: 0px\; margin: 0px\; padding: 0px\; vertical-align: baseline\; outline: none\;">Course Information:</strong></span></p>\n\n<p style="box-sizing: border-box\; background-image: initial\; background-position: initial\; background-size: initial\; background-repeat: initial\; background-attachment: initial\; background-origin: initial\; background-clip: initial\; border: 0px\; margin: 0px\; padding: 0px 0px 20px\; vertical-align: baseline\; outline: none\; color: rgb(112\, 112\, 112)\; font-family: Roboto\, Arial\, Helvetica\, &quot\;Nimbus Sans L&quot\;\, sans-serif\;"><span style="box-sizing: border-box\; background: transparent\; border: 0px\; margin: 0px\; padding: 0px\; vertical-align: baseline\; outline: none\; font-size: 12pt\;"><strong style="box-sizing: border-box\; background: transparent\; border: 0px\; margin: 0px\; padding: 0px\; vertical-align: baseline\; outline: none\;">2014 Advanced FBC Update</strong><br style="box-sizing: border-box\;" />\n2.0 hrs. | FBC: 801.1 &nbsp\;| BCAIB: Reciprocity | CILB: 0612011 | FBPE: 0009142 | ICC: 9954</span></p>\n\n<p style="box-sizing: border-box\; background-image: initial\; background-position: initial\; background-size: initial\; background-repeat: initial\; background-attachment: initial\; background-origin: initial\; background-clip: initial\; border: 0px\; margin: 0px\; padding: 0px 0px 20px\; vertical-align: baseline\; outline: none\; color: rgb(112\, 112\, 112)\; font-family: Roboto\, Arial\, Helvetica\, &quot\;Nimbus Sans L&quot\;\, sans-serif\;"><span style="box-sizing: border-box\; background: transparent\; border: 0px\; margin: 0px\; padding: 0px\; vertical-align: baseline\; outline: none\; font-size: 12pt\;"><strong style="box-sizing: border-box\; background: transparent\; border: 0px\; margin: 0px\; padding: 0px\; vertical-align: baseline\; outline: none\;">Significant Changes to the FBC\, Residential Volume\, 6th Edition</strong><br style="box-sizing: border-box\;" />\n2.0 hrs. | BCAIB: * | CILB: 0612042 | FBAID: 9878568 | FBPE: 0009142 | ICC: 9949</span></p>\n\n<p style="box-sizing: border-box\; background-image: initial\; background-position: initial\; background-size: initial\; background-repeat: initial\; background-attachment: initial\; background-origin: initial\; background-clip: initial\; border: 0px\; margin: 0px\; padding: 0px 0px 20px\; vertical-align: baseline\; outline: none\; color: rgb(112\, 112\, 112)\; font-family: Roboto\, Arial\, Helvetica\, &quot\;Nimbus Sans L&quot\;\, sans-serif\;"><span style="box-sizing: border-box\; background: transparent\; border: 0px\; margin: 0px\; padding: 0px\; vertical-align: baseline\; outline: none\; font-size: 12pt\;"><strong style="box-sizing: border-box\; background: transparent\; border: 0px\; margin: 0px\; padding: 0px\; vertical-align: baseline\; outline: none\;">Understanding the Energy Rating Index (ERI) Compliance Method</strong><br style="box-sizing: border-box\;" />\n2.0 hrs. | BCAIB: * | CILB: 0611914 | FBPE: 0009142 | ICC:&nbsp\;8712</span></p>\n\n<p style="box-sizing: border-box\; background-image: initial\; background-position: initial\; background-size: initial\; background-repeat: initial\; background-attachment: initial\; background-origin: initial\; background-clip: initial\; border: 0px\; margin: 0px\; padding: 0px 0px 20px\; vertical-align: baseline\; outline: none\; color: rgb(112\, 112\, 112)\; font-family: Roboto\, Arial\, Helvetica\, &quot\;Nimbus Sans L&quot\;\, sans-serif\;"><span style="box-sizing: border-box\; background: transparent\; border: 0px\; margin: 0px\; padding: 0px\; vertical-align: baseline\; outline: none\; font-size: 12pt\;"><strong style="box-sizing: border-box\; background: transparent\; border: 0px\; margin: 0px\; padding: 0px\; vertical-align: baseline\; outline: none\;">Wind Mitigation Opening Protection Under the FBC\, Residential Volume\, 6th Edition</strong><br style="box-sizing: border-box\;" />\n1.0 hr. | BCAIB: * | CILB: 0612096 | FBAID: 9878572 | FBPE: 0009143 | ICC:&nbsp\;10618</span></p>\n
LOCATION:Location: Kimal Lumber Address: 11184 Hughey-Kimal Ave\, Venice\, FL 34292
UID:e.9232.1766
SEQUENCE:3
DTSTAMP:20260422T132952Z
URL:https://business.suncoastba.org/events/details/building-code-training-session-1766
END:VEVENT

END:VCALENDAR
