BEGIN:VCALENDAR
VERSION:2.0
PRODID:-//ChamberMaster//Event Calendar 2.0//EN
METHOD:PUBLISH
X-PUBLISHED-TTL:P3D
REFRESH-INTERVAL:P3D
CALSCALE:GREGORIAN
BEGIN:VEVENT
DTSTART:20170720T153000Z
DTEND:20170720T170000Z
X-MICROSOFT-CDO-ALLDAYEVENT:FALSE
SUMMARY:Building & Design Council
DESCRIPTION:Envelope Testing! Required for ALL new residential properties permitted after July 1\, 2017\n\n\n\nLearn about how it's done\n\nWhy it's important\n\nWhen to call to schedule\n\nWho can provide testing\n\nWhat value it provides to your homebuyers\n\n\n\nTraining Session is open to ALL BUILDER members and non-members of MSBIA are welcome to attend.\n\n\n\nPre-requisite: Must be a BUILDER\, owner or company decision maker (only one representative per company please\, space is limited)
X-ALT-DESC;FMTTYPE=text/html:Envelope Testing!&nbsp\;Required for ALL new residential properties&nbsp\;permitted after July 1\, 2017<br />\n<br />\nLearn about how it&rsquo\;s done<br />\nWhy it&rsquo\;s important<br />\nWhen to call to schedule<br />\nWho can provide testing<br />\nWhat value it provides to your homebuyers<br />\n<br />\nTraining Session is open to ALL BUILDER members and&nbsp\;non-members of MSBIA are welcome to attend.<br />\n<br />\n<em><strong>Pre-requisite: Must be a BUILDER\, owner or company decision maker (only one representative per company please\, space is limited)</strong></em><br />\n&nbsp\;<br />\n<br />\n&nbsp\;
LOCATION:Neal Communities 11604 Gramercy Park Bradenton\, FL 34202
UID:e.9232.1567
SEQUENCE:3
DTSTAMP:20260422T190450Z
URL:https://business.suncoastba.org/events/details/building-design-council-07-20-2017-1567
END:VEVENT

END:VCALENDAR
