BEGIN:VCALENDAR
VERSION:2.0
PRODID:-//ChamberMaster//Event Calendar 2.0//EN
METHOD:PUBLISH
X-PUBLISHED-TTL:P3D
REFRESH-INTERVAL:P3D
CALSCALE:GREGORIAN
BEGIN:VEVENT
DTSTART:20160818T153000Z
DTEND:20160818T170000Z
X-MICROSOFT-CDO-ALLDAYEVENT:FALSE
SUMMARY:Building & Design Council
DESCRIPTION:The Building & Design Council focuses on best practices for the Building and Design discipline in construction. This council will focus on remodeling for residential and commercial construction\, custom home building\, architecture\, interior design\, building trades and suppliers.\n\n\n\nThis council is dedicated to providing quality education\, information\, and business & social networking opportunities to members involved in these industries. Any Builder\, Associate\, or Affiliate member\, or employee representative is eligible for membership in the Council.\n\n\n\nThere is no fee to be a member of the Building & Design Council. Members of MS-BIA that wish to be recognized by NAHB as a member of the Remodeler?s Council\, will have a yearly membership fee of $75.\n\n\n\nApplicants must be a primary member or employee of a member in good standing of the Manatee-Sarasota Building Industry Association. \n\n\n\nNathan Cross\, NWC Construction\, 2016 Chairman
X-ALT-DESC;FMTTYPE=text/html:<span style="font-size:14px\;"><span style="font-family:arial\;">The Building &amp\; Design Council focuses on best practices for the Building and Design discipline in construction. This council will focus on remodeling for residential and commercial construction\, custom home building\, architecture\, interior design\, building trades and suppliers.<br />\n<br />\nThis council is dedicated to providing quality education\, information\, and business &amp\; social networking opportunities to members involved in these industries. Any Builder\, Associate\, or Affiliate member\, or employee representative is eligible for membership in the Council.<br />\n<br />\nThere is no fee to be a member of the Building &amp\; Design Council. Members of MS-BIA that wish to be recognized by NAHB as a member of the Remodeler?s Council\, will have a yearly membership fee of $75.<br />\n<br />\nApplicants must be a primary member or employee of a member in good standing of the Manatee-Sarasota Building Industry Association.&nbsp\;<br />\n<br />\nNathan Cross\, NWC Construction\, 2016 Chairman</span></span><br />\n&nbsp\;
LOCATION:MSBIA Office 6983 Professional Parkway East Sarasota\, FL 34240
UID:e.9232.1535
SEQUENCE:3
DTSTAMP:20260421T233036Z
URL:https://business.suncoastba.org/events/details/building-design-council-08-18-2016-1535
END:VEVENT

END:VCALENDAR
