BEGIN:VCALENDAR
VERSION:2.0
PRODID:-//ChamberMaster//Event Calendar 2.0//EN
METHOD:PUBLISH
X-PUBLISHED-TTL:P3D
REFRESH-INTERVAL:P3D
CALSCALE:GREGORIAN
BEGIN:VEVENT
DTSTART:20200414T130000Z
DTEND:20200414T150000Z
X-MICROSOFT-CDO-ALLDAYEVENT:FALSE
SUMMARY:Building Officials Update - Virtual Zoom Meeting
DESCRIPTION:Join us for an update from Manatee and Sarasota Building Officials. \n\nLIMITED TO 100 ATTENDEES
X-ALT-DESC;FMTTYPE=text/html:Join us for an update from Manatee and Sarasota Building Officials.&nbsp\;<br />\n<strong>LIMITED TO 100 ATTENDEES</strong>
LOCATION:Virtual Zoom Meeting - YOU MUST REGISTER TO RECEIVE THE CODE
UID:e.9232.2588
SEQUENCE:3
DTSTAMP:20260423T232138Z
URL:https://business.suncoastba.org/events/details/building-officials-update-virtual-zoom-meeting-2588
END:VEVENT

END:VCALENDAR
