BEGIN:VCALENDAR
VERSION:2.0
PRODID:-//ChamberMaster//Event Calendar 2.0//EN
METHOD:PUBLISH
X-PUBLISHED-TTL:P3D
REFRESH-INTERVAL:P3D
CALSCALE:GREGORIAN
BEGIN:VEVENT
DTSTART:20200421T130000Z
DTEND:20200421T140000Z
X-MICROSOFT-CDO-ALLDAYEVENT:FALSE
SUMMARY:Building Officials Zoom Meeting
DESCRIPTION:Join us for our weekly update from Manatee and Sarasota County Building Officials!\n\nLIMITED TO 100 ATTENDEES
X-ALT-DESC;FMTTYPE=text/html:Join us for our weekly update from Manatee and Sarasota County Building Officials!<br />\n<strong>LIMITED TO 100 ATTENDEES&nbsp\;</strong>
LOCATION:Virtual Zoom Meeting - YOU MUST REGISTER TO RECEIVE THE CODE!
UID:e.9232.2591
SEQUENCE:3
DTSTAMP:20260423T232226Z
URL:https://business.suncoastba.org/events/details/building-officials-zoom-meeting-2591
END:VEVENT

END:VCALENDAR
