BEGIN:VCALENDAR
VERSION:2.0
PRODID:-//ChamberMaster//Event Calendar 2.0//EN
METHOD:PUBLISH
X-PUBLISHED-TTL:P3D
REFRESH-INTERVAL:P3D
CALSCALE:GREGORIAN
BEGIN:VEVENT
DTSTART:20200505T130000Z
DTEND:20200505T140000Z
X-MICROSOFT-CDO-ALLDAYEVENT:FALSE
SUMMARY:Building Officials Zoom Meeting
DESCRIPTION:Join us for a Manatee and Sarasota County Building Officials Update. Do you have questions for the building officials?  Here's your opportunity to ask!
X-ALT-DESC;FMTTYPE=text/html:Join us for a Manatee and Sarasota County Building Officials Update. Do you have questions for the building officials?&nbsp\; Here&#39\;s your opportunity to ask!
LOCATION:Virtual Zoom Meeting - YOU MUST REGISTER TO RECEIVE THE MEETING CODE
UID:e.9232.2599
SEQUENCE:3
DTSTAMP:20260423T220624Z
URL:https://business.suncoastba.org/events/details/building-officials-zoom-meeting-2599
END:VEVENT

END:VCALENDAR
