BEGIN:VCALENDAR
VERSION:2.0
PRODID:-//ChamberMaster//Event Calendar 2.0//EN
METHOD:PUBLISH
X-PUBLISHED-TTL:P3D
REFRESH-INTERVAL:P3D
CALSCALE:GREGORIAN
BEGIN:VEVENT
DTSTART:20200519T130000Z
DTEND:20200519T140000Z
X-MICROSOFT-CDO-ALLDAYEVENT:FALSE
SUMMARY:Building Officials Zoom Meeting
DESCRIPTION:Join us for an update from the Manatee & Sarasota County Building Officials.
X-ALT-DESC;FMTTYPE=text/html:Join us for an update from the Manatee &amp\; Sarasota County Building Officials.
LOCATION:Virtual Zoom Meeting - YOU MUST REGISTER TO RECEIVE THE MEETING CODE!
UID:e.9232.2603
SEQUENCE:3
DTSTAMP:20260423T220710Z
URL:https://business.suncoastba.org/events/details/building-officials-zoom-meeting-2603
END:VEVENT

END:VCALENDAR
