BEGIN:VCALENDAR
VERSION:2.0
PRODID:-//ChamberMaster//Event Calendar 2.0//EN
METHOD:PUBLISH
X-PUBLISHED-TTL:P3D
REFRESH-INTERVAL:P3D
CALSCALE:GREGORIAN
BEGIN:VEVENT
DTSTART:20200602T130000Z
DTEND:20200602T140000Z
X-MICROSOFT-CDO-ALLDAYEVENT:FALSE
SUMMARY:Building Officials Zoom Meeting
DESCRIPTION:Our weekly Building Officials Zoom Meeting is a perfect opportunity for you to ask your local building officials any questions!! Join us for our next meeting.
X-ALT-DESC;FMTTYPE=text/html:Our weekly Building Officials Zoom Meeting is a perfect opportunity for you to ask your local building officials any questions!! Join us for our next meeting.&nbsp\;&nbsp\;
LOCATION:Virtual Zoom Meeting - YOU MUST REGISTER TO RECEIVE THE MEETING CODE!
UID:e.9232.2606
SEQUENCE:3
DTSTAMP:20260423T220833Z
URL:https://business.suncoastba.org/events/details/building-officials-zoom-meeting-2606
END:VEVENT

END:VCALENDAR
