BEGIN:VCALENDAR
VERSION:2.0
PRODID:-//ChamberMaster//Event Calendar 2.0//EN
METHOD:PUBLISH
X-PUBLISHED-TTL:P3D
REFRESH-INTERVAL:P3D
CALSCALE:GREGORIAN
BEGIN:VEVENT
DTSTART:20200707T130000Z
DTEND:20200707T140000Z
X-MICROSOFT-CDO-ALLDAYEVENT:FALSE
SUMMARY:Building Officials Zoom Meeting
DESCRIPTION:Join us for our Building Officials meeting with the Sarasota and Manatee Counties Building Officials!
X-ALT-DESC;FMTTYPE=text/html:Join us for our Building Officials meeting with the Sarasota and Manatee Counties Building Officials!&nbsp\;&nbsp\;&nbsp\;&nbsp\;&nbsp\;
LOCATION:Virtual Zoom Meeting - YOU MUST REGISTER TO RECEIVE THE MEETING CODE!
UID:e.9232.2612
SEQUENCE:3
DTSTAMP:20260423T193955Z
URL:https://business.suncoastba.org/events/details/building-officials-zoom-meeting-2612
END:VEVENT

END:VCALENDAR
