BEGIN:VCALENDAR
VERSION:2.0
PRODID:-//ChamberMaster//Event Calendar 2.0//EN
METHOD:PUBLISH
X-PUBLISHED-TTL:P3D
REFRESH-INTERVAL:P3D
CALSCALE:GREGORIAN
BEGIN:VEVENT
DTSTART:20260211T133000Z
DTEND:20260211T143000Z
X-MICROSOFT-CDO-ALLDAYEVENT:FALSE
SUMMARY:{Canceled} Industry Insights Roundtable- Sales & Marketing Committee
DESCRIPTION:Join us for our Industry Insights Roundtable\, a dedicated forum for sales managers\, marketing managers\, sales agents\, and industry professionals to engage in meaningful discussion and stay informed on emerging trends within the home-building market.\n\nThis roundtable provides an opportunity to exchange perspectives\, address current challenges\, and explore new opportunities shaping our industry. Insights gathered during these sessions play an important role in guiding future SMC programming\, educational offerings\, and collaborative initiatives.\n\nParticipants are encouraged to contribute to a forward-thinking\, solutions-oriented conversation that supports professional growth and strengthens connections across the home-building community.
X-ALT-DESC;FMTTYPE=text/html:<p data-end="343" data-start="94">Join us for our Industry Insights Roundtable\, a dedicated forum for sales managers\, marketing managers\, sales agents\, and industry professionals to engage in meaningful discussion and stay informed on emerging trends within the home-building market.</p>\n\n<p data-end="642" data-start="345">This roundtable provides an opportunity to exchange perspectives\, address current challenges\, and explore new opportunities shaping our industry. Insights gathered during these sessions play an important role in guiding future SMC programming\, educational offerings\, and collaborative initiatives.</p>\n\n<p data-end="838" data-is-last-node="" data-is-only-node="" data-start="644">Participants are encouraged to contribute to a forward-thinking\, solutions-oriented conversation that supports professional growth and strengthens connections across the home-building community.</p>\n
LOCATION:More information to come! This meeting takes place every other month at a featured builder?s model home. Each location highlights a different builder and community\, offering attendees the opportunity to experience new models\, design trends\, and market offerings firsthand.
UID:e.9232.5332
SEQUENCE:3
DTSTAMP:20260421T173436Z
URL:https://business.suncoastba.org/events/details/canceled-industry-insights-roundtable-sales-marketing-committee-5332
END:VEVENT

END:VCALENDAR
