BEGIN:VCALENDAR
VERSION:2.0
PRODID:-//ChamberMaster//Event Calendar 2.0//EN
METHOD:PUBLISH
X-PUBLISHED-TTL:P3D
REFRESH-INTERVAL:P3D
CALSCALE:GREGORIAN
BEGIN:VEVENT
DTSTART:20230209T230000Z
DTEND:20230210T010000Z
X-MICROSOFT-CDO-ALLDAYEVENT:FALSE
SUMMARY:Chili Cook Off
DESCRIPTION:For our February general membership meeting\, the MSBIA would like to invite you to our annual chili cookoff! We encourage you to invite a potential new member to see what your local BIA has to offer.\n\n\n\nBring your crockpot of chili (and any sides you need) and we will find out who cooks up the best of the best for a prize! Our members will be the judge.
X-ALT-DESC;FMTTYPE=text/html:<span style="font-size:14px\;"><span style="font-family:arial\;"><span background-color:="" font-size:="" style="color: rgb(51\, 51\, 51)\; font-family: sans-serif\, Arial\, Verdana\, " trebuchet="">For our February general membership meeting\, the MSBIA would like to invite you to our annual chili cookoff! We encourage you to invite a potential new member to see what your local BIA has to offer.</span><br />\n<br font-size:="" style="color: rgb(51\, 51\, 51)\; font-family: sans-serif\, Arial\, Verdana\, " trebuchet="" />\n<span color:="" font-size:="" trebuchet=""><em>Bring your crockpot of chili (and any sides you need) and we will find out who cooks&nbsp\;up the best of the best for a prize! Our members will be the judge.</em></span></span></span><br />\n&nbsp\;
LOCATION:Manatee-Sarasota BIA Office 6650 Professional Parkway W\, Ste 102 Lakewood Ranch\, FL 34240
UID:e.9232.2683
SEQUENCE:3
DTSTAMP:20260421T224129Z
URL:https://business.suncoastba.org/events/details/chili-cook-off-2683
END:VEVENT

END:VCALENDAR
