BEGIN:VCALENDAR
VERSION:2.0
PRODID:-//ChamberMaster//Event Calendar 2.0//EN
METHOD:PUBLISH
X-PUBLISHED-TTL:P3D
REFRESH-INTERVAL:P3D
CALSCALE:GREGORIAN
BEGIN:VEVENT
DTSTART:20201202T223000Z
DTEND:20201203T020000Z
X-MICROSOFT-CDO-ALLDAYEVENT:FALSE
SUMMARY:Christmas Around the World
DESCRIPTION:Join us for "Christmas Around the World" as we celebrate the Holidays and say goodbye to 2020\, this event benefits All Faiths Food Bank.
X-ALT-DESC;FMTTYPE=text/html:<p>Join us for &quot\;Christmas Around the World&quot\; as we celebrate the Holidays and say goodbye to 2020\, this event benefits All Faiths Food Bank.<br />\n&nbsp\;</p>\n
LOCATION:Manatee-Sarasota BIA 6650 Professional Pkwy W. Suite #102 Lakewood Ranch 34240
UID:e.9232.2573
SEQUENCE:3
DTSTAMP:20260423T111109Z
URL:https://business.suncoastba.org/events/details/christmas-around-the-world-2573
END:VEVENT

END:VCALENDAR
