BEGIN:VCALENDAR
VERSION:2.0
PRODID:-//ChamberMaster//Event Calendar 2.0//EN
METHOD:PUBLISH
X-PUBLISHED-TTL:P3D
REFRESH-INTERVAL:P3D
CALSCALE:GREGORIAN
BEGIN:VEVENT
DTSTART:20211005T213000Z
DTEND:20211006T003000Z
X-MICROSOFT-CDO-ALLDAYEVENT:FALSE
SUMMARY:Cigars and Libations
DESCRIPTION:Join us for an evening of cigars and libations to support our Political Action Committee! Ticket price includes cigars\, libations and food.
X-ALT-DESC;FMTTYPE=text/html:Join us for an evening of cigars and libations to support our Political Action Committee! Ticket price includes cigars\, libations and food.&nbsp\;
LOCATION:Maduro Cigar & Bar 5275 University Parkway #115 Sarasota\, FL 34201
UID:e.9232.2672
SEQUENCE:3
DTSTAMP:20260422T225049Z
URL:https://business.suncoastba.org/events/details/cigars-and-libations-2672
END:VEVENT

END:VCALENDAR
