BEGIN:VCALENDAR
VERSION:2.0
PRODID:-//ChamberMaster//Event Calendar 2.0//EN
METHOD:PUBLISH
X-PUBLISHED-TTL:P3D
REFRESH-INTERVAL:P3D
CALSCALE:GREGORIAN
BEGIN:VEVENT
DTSTART:20200408T140000Z
DTEND:20200408T153000Z
X-MICROSOFT-CDO-ALLDAYEVENT:FALSE
SUMMARY:Congressional Update with Congressman Greg Steube
DESCRIPTION:Join us for a Congressional Update with Congressman Greg Steube.
X-ALT-DESC;FMTTYPE=text/html:Join us for a Congressional Update with Congressman Greg Steube.&nbsp\;&nbsp\;
LOCATION:Zoom Meeting: Join URL: https://us02web.zoom.us/j/699354853
UID:e.9232.2587
SEQUENCE:3
DTSTAMP:20260424T001834Z
URL:https://business.suncoastba.org/events/details/congressional-update-with-congressman-greg-steube-2587
END:VEVENT

END:VCALENDAR
