BEGIN:VCALENDAR
VERSION:2.0
PRODID:-//ChamberMaster//Event Calendar 2.0//EN
METHOD:PUBLISH
X-PUBLISHED-TTL:P3D
REFRESH-INTERVAL:P3D
CALSCALE:GREGORIAN
BEGIN:VEVENT
DTSTART;VALUE=DATE:20160809
DTEND;VALUE=DATE:20160811
TRANSP:TRANSPARENT
X-MICROSOFT-CDO-ALLDAYEVENT:TRUE
SUMMARY:Continuing Education
DESCRIPTION:Day 1 - 8/9/2016 (7 Credit Hours)\n\n			Advanced 2014 FBC Significant Code Changes 1 hr.\n\n			(CILB CILB Course# 0611359/ECLB Course# 0801491  ADV)\n\n			Asset Protection   1 hr.\n\n			(CILB Course #0009694/ECLB Course #0007872  B)\n\n			Florida Laws & Rules   1 hr.\n\n			(CILB Course #0010178/ECLB Course #0801690  L&R) \n\n			Lien Law   1 hr.\n\n			(CILB Course #9693/ECLB Course #0007877   B)\n\n			Understanding Workers Compensation   1 hr.\n\n			(CILB Course #0008545 ECLB Course #0007374   C)\n\n			Wind Mitigation Methodologies   1 hr.\n\n			(CILB #0010303) (Approved for CILB ONLY)\n\n			Worksite Safety   1 hr.\n\n			(CILB Course #0008546/ECLB Course #0007375   S)\n			\n			 \n			 \n		\n		\n			Day 2 - 8/10/2016 (7 Credit Hours)\n\n			A Journey Through Your Business Lifecycle   4 hrs.\n\n			(CILB Course #0009699/ECLB Course #0007876   B/C)\n\n			Business Benchmark   1hr.\n\n			(CILB Course #0008548/ECLB Course #0007377  B)\n\n			Improved Management Techniques   2 hrs.\n\n			(CILB Course #0009697ECLB Course #0007875   B)\n\n			-OR  NEC Update   (correspondence course) 7 hrs.\n\n			(ECLB #0800203   T) (Approved for ECLB ONLY)
X-ALT-DESC;FMTTYPE=text/html:<table cellpadding="0" cellspacing="0" class="em-tickets" style="margin: 0px 0px 1.71429rem\; padding: 0px\; border-width: 0px 0px 1px\; border-bottom-style: solid\; border-bottom-color: rgb(237\, 237\, 237)\; font-size: 0.857143rem\; vertical-align: baseline\; border-collapse: collapse\; border-spacing: 0px\; color: rgb(117\, 117\, 117)\; line-height: 24px\; width: 624px\; font-family: &quot\;Open Sans&quot\;\, Helvetica\, Arial\, sans-serif\;">\n	<tbody style="margin: 0px\; padding: 0px\; border: 0px\; font-size: 12px\; vertical-align: baseline\;">\n		<tr class="em-ticket" id="em-ticket-380" style="margin: 0px\; padding: 0px\; border: 0px\; vertical-align: baseline\;">\n			<td class="em-bookings-ticket-table-type" style="margin: 0px\; padding: 6px 10px 6px 0px\; border-width: 1px 0px 0px\; border-top-style: solid\; border-top-color: rgb(237\, 237\, 237)\; font-size: 14px\; vertical-align: baseline\; font-weight: bold\; color: black\;">\n			<p>Day 1 - 8/9/2016 (7 Credit Hours)<br />\n			<span class="ticket-desc" style="margin: 0px\; padding: 0px\; border: 0px\; font-size: 12px\; vertical-align: baseline\; font-weight: normal\; line-height: 12px\;"><strong>Advanced 2014 FBC Significant Code Changes</strong>&mdash\;1 hr.<br />\n			(CILB CILB Course# 0611359/ECLB Course# 0801491&mdash\; ADV)<br />\n			<strong>Asset Protection</strong> &mdash\; 1 hr.<br />\n			(CILB Course #0009694/ECLB Course #0007872&mdash\; B)<br />\n			<strong>Florida Laws &amp\; Rules</strong> &mdash\; 1 hr.<br />\n			(CILB Course #0010178/ECLB Course #0801690&mdash\; L&amp\;R)&nbsp\;<br />\n			<strong>Lien Law</strong> &mdash\; 1 hr.<br />\n			(CILB Course #9693/ECLB Course #0007877 &mdash\; B)<br />\n			<strong>Understanding Workers Compensation</strong> &mdash\; 1 hr.<br />\n			(CILB Course #0008545 ECLB Course #0007374 &mdash\; C)<br />\n			<strong>Wind Mitigation Methodologies</strong> &mdash\; 1 hr.<br />\n			(CILB #0010303) (Approved for CILB ONLY)<br />\n			<strong>Worksite Safety</strong> &mdash\; 1 hr.<br />\n			(CILB Course #0008546/ECLB Course #0007375 &mdash\; S)</span></p>\n			</td>\n			<td class="em-bookings-ticket-table-price" style="margin: 0px\; padding: 6px 10px 6px 0px\; border-width: 1px 0px 0px\; border-top-style: solid\; border-top-color: rgb(237\, 237\, 237)\; vertical-align: baseline\;">&nbsp\;</td>\n			<td class="em-bookings-ticket-table-spaces" style="margin: 0px\; padding: 6px 10px 6px 0px\; border-width: 1px 0px 0px\; border-top-style: solid\; border-top-color: rgb(237\, 237\, 237)\; vertical-align: baseline\;">&nbsp\;</td>\n		</tr>\n		<tr class="em-ticket" id="em-ticket-381" style="margin: 0px\; padding: 0px\; border: 0px\; vertical-align: baseline\;">\n			<td class="em-bookings-ticket-table-type" style="margin: 0px\; padding: 6px 10px 6px 0px\; border-width: 1px 0px 0px\; border-top-style: solid\; border-top-color: rgb(237\, 237\, 237)\; font-size: 14px\; vertical-align: baseline\; font-weight: bold\; color: black\;">Day 2 - 8/10/2016 (7 Credit Hours)<br />\n			<span class="ticket-desc" style="margin: 0px\; padding: 0px\; border: 0px\; font-size: 12px\; vertical-align: baseline\; font-weight: normal\; line-height: 12px\;"><strong>A Journey Through Your Business Lifecycle</strong> &mdash\; 4 hrs.<br />\n			(CILB Course #0009699/ECLB Course #0007876 &mdash\; B/C)<br />\n			<strong>Business Benchmark </strong>&mdash\; 1hr.<br />\n			(CILB Course #0008548/ECLB Course #0007377&mdash\; B)<br />\n			<strong>Improved Management Techniques</strong> &mdash\; 2 hrs.<br />\n			(CILB Course #0009697ECLB Course #0007875 &mdash\; B)<br />\n			-OR&ndash\; <strong>NEC Update</strong> &mdash\; (correspondence course) 7 hrs.<br />\n			(ECLB #0800203 &mdash\; T) (Approved for ECLB ONLY)</span></td>\n		</tr>\n	</tbody>\n</table>\n
LOCATION:Kimal Event Center 11184 Hughey Kimal Drive Venice\, FL 34292
UID:e.9232.1533
SEQUENCE:3
DTSTAMP:20260422T000736Z
URL:https://business.suncoastba.org/events/details/continuing-education-08-09-2016-1533
END:VEVENT

END:VCALENDAR
