BEGIN:VCALENDAR
VERSION:2.0
PRODID:-//ChamberMaster//Event Calendar 2.0//EN
METHOD:PUBLISH
X-PUBLISHED-TTL:P3D
REFRESH-INTERVAL:P3D
CALSCALE:GREGORIAN
BEGIN:VEVENT
DTSTART:20201014T213000Z
DTEND:20201015T000000Z
X-MICROSOFT-CDO-ALLDAYEVENT:FALSE
SUMMARY:Cornhole Tournament
DESCRIPTION:Join the MSBIA for a Cornhole Tournament!\n\n\n\nPOTENTIAL NEW MEMBERS encouraged\, bring a friend as we are kicking off our membership drive!
X-ALT-DESC;FMTTYPE=text/html:Join the MSBIA for a Cornhole Tournament!<br />\n<br />\nPOTENTIAL NEW MEMBERS encouraged\, bring a friend as we are kicking off our membership drive!
LOCATION:Motorworks Brewing 1014 9th Street West Bradenton\, FL 34205
UID:e.9232.2620
SEQUENCE:3
DTSTAMP:20260423T135538Z
URL:https://business.suncoastba.org/events/details/cornhole-tournament-2620
END:VEVENT

END:VCALENDAR
