BEGIN:VCALENDAR
VERSION:2.0
PRODID:-//ChamberMaster//Event Calendar 2.0//EN
METHOD:PUBLISH
X-PUBLISHED-TTL:P3D
REFRESH-INTERVAL:P3D
CALSCALE:GREGORIAN
BEGIN:VEVENT
DTSTART:20230907T220000Z
DTEND:20230908T000000Z
X-MICROSOFT-CDO-ALLDAYEVENT:FALSE
SUMMARY:D&D Garage Doors Member Mixer and Showroom Reveal
DESCRIPTION:This event will directly follow the Board of Directors meeting.\n\n\n\nD&D Garage Doors welcomes members of the Manatee Sarasota Building Industry Association to an evening of networking\, lite bites\, beer and wine. Visit our updated showroom and get an exclusive first look at the newly added Commercial & Gates Showroom.\n\nPlease RSVP online or with Amber Elsenheimer by Monday\, September 4th \n\namber@ms-bia.org | (941) 704-6582
X-ALT-DESC;FMTTYPE=text/html:<p class="_04xlpA direction-ltr align-center para-style-body" style="color: rgb(0\, 0\, 0)\; font-family: &quot\;YAFdJrJllfA 0&quot\;\, _fb_\, auto\; --font-size: 18.6667px\; --line-height: 1.4\; letter-spacing: 0.12em\; line-height: 26px\;"><span style="font-size:18px\;"><span class="OYPEnA text-decoration-none text-strikethrough-none">This event will directly follow the Board of Directors meeting.<br />\n<br />\nD&amp\;D Garage Doors welcomes members of the Manatee Sarasota Building Industry Association to an evening of networking\, lite bites\, beer and wine. Visit our updated showroom and get an exclusive first look at the newly added Commercial &amp\; Gates Showroom.</span></span></p>\n\n<p class="_04xlpA direction-ltr align-center para-style-body" style="color: rgb(0\, 0\, 0)\; font-family: &quot\;YAFdJrJllfA 0&quot\;\, _fb_\, auto\; --font-size: 17.3334px\; --line-height: 1.87\; letter-spacing: 0.12em\; line-height: 32px\;"><span style="font-size:18px\;"><span class="OYPEnA text-decoration-none text-strikethrough-none">Please</span><span class="OYPEnA text-decoration-none text-strikethrough-none" style="color: rgb(239\, 229\, 169)\;"> </span><span class="OYPEnA text-strikethrough-none text-decoration-underline" style="font-weight: 700\;">RSVP</span><span class="OYPEnA text-strikethrough-none text-decoration-none"> online or with Amber Elsenheimer by Monday\, September 4th</span><span class="OYPEnA text-strikethrough-none text-decoration-none white-space-prewrap"> </span></span></p>\n\n<p class="_04xlpA direction-ltr align-center para-style-body" style="color: rgb(0\, 0\, 0)\; font-family: &quot\;YAFdJrJllfA 0&quot\;\, _fb_\, auto\; --font-size: 17.3334px\; --line-height: 1.87\; letter-spacing: 0.12em\; line-height: 32px\;"><span style="font-size:18px\;"><span class="OYPEnA text-decoration-none text-strikethrough-none">amber@ms-bia.org<span class="OYPEnA text-decoration-none text-strikethrough-none white-space-prewrap"> </span>|<span class="OYPEnA text-decoration-none text-strikethrough-none white-space-prewrap"> </span>(941) 704-6582</span></span></p>\n
LOCATION:1177 Cattlemen Rd\, Sarasota\, FL 34232
UID:e.9232.3173
SEQUENCE:3
DTSTAMP:20260421T105505Z
URL:https://business.suncoastba.org/events/details/d-d-garage-doors-member-mixer-and-showroom-reveal-3173
END:VEVENT

END:VCALENDAR
