BEGIN:VCALENDAR
VERSION:2.0
PRODID:-//ChamberMaster//Event Calendar 2.0//EN
METHOD:PUBLISH
X-PUBLISHED-TTL:P3D
REFRESH-INTERVAL:P3D
CALSCALE:GREGORIAN
BEGIN:VEVENT
DTSTART:20160721T113000Z
DTEND:20160721T123000Z
X-MICROSOFT-CDO-ALLDAYEVENT:FALSE
SUMMARY:Developers Council Meeting
DESCRIPTION:The Developers Committee deals with a wide range of issues that influence our local development industry.\n\n \n\nOur goals are to:\n\n-use collective experience and resources to affect land use policy change in Manatee and Sarasota Counties for the better\n\n-further personal and professional networks\n\n-learn from other Council members' relevant industry experience\n\n-build relationships to create business opportunities\n\n-have some fun doing all of the above
X-ALT-DESC;FMTTYPE=text/html:<p class="x_MsoNormal" style="margin: 0in 0in 0.0001pt\; font-size: 11pt\; font-family: Calibri\, sans-serif\; color: rgb(33\, 33\, 33)\; line-height: normal\;"><span style="font-size: 12pt\; font-family: Arial\, sans-serif\;">The Developers Committee deals with a wide range of issues that influence our local development industry.</span></p>\n\n<p class="x_MsoNormal" style="margin: 0in 0in 0.0001pt\; font-size: 11pt\; font-family: Calibri\, sans-serif\; color: rgb(33\, 33\, 33)\; line-height: normal\;"><span style="font-size: 12pt\; font-family: Arial\, sans-serif\;">&nbsp\;</span></p>\n\n<p class="x_MsoNormal" style="margin: 0in 0in 0.0001pt\; font-size: 11pt\; font-family: Calibri\, sans-serif\; color: rgb(33\, 33\, 33)\; line-height: normal\;"><span style="font-size: 12pt\; font-family: Arial\, sans-serif\;">Our goals are to:</span></p>\n\n<p class="x_MsoNormal" style="margin: 0in 0in 0.0001pt\; font-size: 11pt\; font-family: Calibri\, sans-serif\; color: rgb(33\, 33\, 33)\; line-height: normal\;"><span style="font-size: 12pt\; font-family: Arial\, sans-serif\;">-use collective experience and resources to affect land use policy change in Manatee and Sarasota Counties for the better</span></p>\n\n<p class="x_MsoNormal" style="margin: 0in 0in 0.0001pt\; font-size: 11pt\; font-family: Calibri\, sans-serif\; color: rgb(33\, 33\, 33)\; line-height: normal\;"><span style="font-size: 12pt\; font-family: Arial\, sans-serif\;">-further personal and professional networks</span></p>\n\n<p class="x_MsoNormal" style="margin: 0in 0in 0.0001pt\; font-size: 11pt\; font-family: Calibri\, sans-serif\; color: rgb(33\, 33\, 33)\; line-height: normal\;"><span style="font-size: 12pt\; font-family: Arial\, sans-serif\;">-learn from other Council members&rsquo\; relevant industry experience</span></p>\n\n<p class="x_MsoNormal" style="margin: 0in 0in 0.0001pt\; font-size: 11pt\; font-family: Calibri\, sans-serif\; color: rgb(33\, 33\, 33)\; line-height: normal\;"><span style="font-size: 12pt\; font-family: Arial\, sans-serif\;">-build relationships to create business opportunities</span></p>\n\n<p class="x_MsoNormal" style="margin: 0in 0in 0.0001pt\; font-size: 11pt\; font-family: Calibri\, sans-serif\; color: rgb(33\, 33\, 33)\; line-height: normal\;"><span style="font-size: 12pt\; font-family: Arial\, sans-serif\;">-have some fun doing all of the above</span></p>\n
LOCATION:MSBIA Office 6983 Professional Parkway East Sarasota\, FL 34240
UID:e.9232.1262
SEQUENCE:3
DTSTAMP:20260421T211612Z
URL:https://business.suncoastba.org/events/details/developers-council-meeting-07-21-2016-1262
END:VEVENT

END:VCALENDAR
