BEGIN:VCALENDAR
VERSION:2.0
PRODID:-//ChamberMaster//Event Calendar 2.0//EN
METHOD:PUBLISH
X-PUBLISHED-TTL:P3D
REFRESH-INTERVAL:P3D
CALSCALE:GREGORIAN
BEGIN:VEVENT
DTSTART:20190417T140000Z
DTEND:20190417T183000Z
X-MICROSOFT-CDO-ALLDAYEVENT:FALSE
SUMMARY:Direct Drive Training Day
DESCRIPTION:Join the MSBIA for our Direct Drive Training Day. In addition to helping us grow membership you will learn five "renegade" marketing tactics and tools\, that you will be able to implement instantly in your own business!\n\n\n\nSpace is limited to 40 seats\, sign up now!
X-ALT-DESC;FMTTYPE=text/html:Join the MSBIA for our <strong>Direct Drive Training Day</strong>. In addition to helping us grow membership you will learn five &quot\;renegade&quot\; marketing tactics and tools\, that you will be able to implement instantly in your own business!<br />\n<br />\nSpace is limited to 40 seats\, sign up now!
LOCATION:MSBIA Office 6650 Professional Pkwy W Suite 102 Sarasota\, FL 34240
UID:e.9232.2137
SEQUENCE:3
DTSTAMP:20260424T061636Z
URL:https://business.suncoastba.org/events/details/direct-drive-training-day-2137
END:VEVENT

END:VCALENDAR
