BEGIN:VCALENDAR
VERSION:2.0
PRODID:-//ChamberMaster//Event Calendar 2.0//EN
METHOD:PUBLISH
X-PUBLISHED-TTL:P3D
REFRESH-INTERVAL:P3D
CALSCALE:GREGORIAN
BEGIN:VEVENT
DTSTART:20190905T213000Z
DTEND:20190905T233000Z
X-MICROSOFT-CDO-ALLDAYEVENT:FALSE
SUMMARY:Eat\, Drink and Design
DESCRIPTION:Come out to Intended Space Cabinetry for their Eat\, Drink and Design Event!\n\n\n\nhttps://chambermaster.blob.core.windows.net/userfiles/UserFiles/chambers/9232/File/IntendedSpacesEvent9_5_2019.pdf
X-ALT-DESC;FMTTYPE=text/html:Come out to Intended Space Cabinetry for their Eat\, Drink and Design Event!<br />\n<br />\n<a href="https://chambermaster.blob.core.windows.net/userfiles/UserFiles/chambers/9232/File/IntendedSpacesEvent9_5_2019.pdf">https://chambermaster.blob.core.windows.net/userfiles/UserFiles/chambers/9232/File/IntendedSpacesEvent9_5_2019.pdf</a>
LOCATION:Intended Spaces Cabinetry 6092 Clark Center Road Sarasota\, FL 34238
UID:e.9232.2284
SEQUENCE:3
DTSTAMP:20260424T080818Z
URL:https://business.suncoastba.org/events/details/eat-drink-and-design-2284
END:VEVENT

END:VCALENDAR
