BEGIN:VCALENDAR
VERSION:2.0
PRODID:-//ChamberMaster//Event Calendar 2.0//EN
METHOD:PUBLISH
X-PUBLISHED-TTL:P3D
REFRESH-INTERVAL:P3D
CALSCALE:GREGORIAN
BEGIN:VEVENT
DTSTART:20260624T120000Z
DTEND:20260624T140000Z
X-MICROSOFT-CDO-ALLDAYEVENT:FALSE
SUMMARY:Elevate to Excellence: Sales Workshop & Training Seminar
DESCRIPTION:Elevate to Excellence\n\nSales Workshop & Training Seminar\n\nFeaturing Brook Jennings: Founder of Elevate Actually\n\n \n\nJoin the Suncoast Builders Association Sales & Marketing Council for Elevate to Excellence\, a dynamic workshop and training seminar designed to help you maximize opportunities beyond peak season.\n\nTaking place on June 24th from 8:00 AM to 10:00 AM at Gold Coast Eagle\, this engaging session will be led by Brook Jennings of Elevate Actually\, an industry expert known for helping professionals refine their sales strategies and elevate performance.\n\nAs the busy season winds down\, many leads are left untapped. This workshop focuses on one of the most critical questions in today's market: what do you do with your leads once the season slows down? Attendees will gain actionable strategies to nurture relationships\, improve follow-up\, increase conversion rates\, and maintain momentum year-round. You'll walk away with practical tools to turn leftover leads into long-term opportunities and sustained business growth.\n\nThe cost to attend is $100 per person\, and all attendees will receive a $25 credit toward a Celebration of Excellence Awards entry\, adding even more value to your experience.\n\nDon't miss this opportunity to sharpen your skills\, strengthen your pipeline\, and connect with fellow industry professionals in a high-impact\, results-driven environment.
X-ALT-DESC;FMTTYPE=text/html:<div data-end="314" data-start="117" style="text-align: center\;"><span style="color:#000066\;"><span style="font-size:14px\;"><span style="font-family:times new roman\;"><strong><span style="font-size:22px\;"><span style="font-size:48px\;">Elevate to Excellence</span></span></strong></span></span></span></div>\n\n<h2 data-end="314" data-start="117" style="font-style: italic\; text-align: center\;"><span style="color:#000066\;"><span style="font-size:14px\;"><span style="font-family:times new roman\;"><strong><span style="font-size:22px\;"><span style="font-size:48px\;"><span style="font-size:36px\;">Sales Workshop &amp\; Training Seminar</span></span></span></strong></span></span></span><br />\n<span style="color:#cc9900\;"><span style="font-size:14px\;"><span style="font-family:times new roman\;"><strong><span style="font-size:22px\;"><span style="font-size:48px\;"><span style="font-size:22px\;">Featuring Brook Jennings:&nbsp\;</span></span>Founder of Elevate Actually</span></strong></span></span></span><br />\n&nbsp\;</h2>\n\n<p data-end="314" data-start="117" style="text-align: center\;"><span style="color:#000000\;"><span style="font-size:16px\;"><span style="font-family:times new roman\;">Join the Suncoast Builders Association Sales &amp\; Marketing Council for <em data-end="209" data-start="186">Elevate to Excellence</em>\, a dynamic workshop and training seminar designed to help you maximize opportunities beyond peak season.</span></span></span></p>\n\n<p data-end="574" data-start="316" style="text-align: center\;"><span style="color:#000000\;"><span style="font-size:16px\;"><span style="font-family:times new roman\;">Taking place on <strong data-end="390" data-start="332">June 24th from 8:00 AM to 10:00 AM at Gold Coast Eagle</strong>\, this engaging session will be led by <strong data-end="467" data-start="429">Brook Jennings of Elevate Actually</strong>\, an industry expert known for helping professionals refine their sales strategies and elevate performance.</span></span></span></p>\n\n<p data-end="1045" data-start="576" style="text-align: center\;"><span style="color:#000000\;"><span style="font-size:16px\;"><span style="font-family:times new roman\;">As the busy season winds down\, many leads are left untapped. This workshop focuses on one of the most critical questions in today&rsquo\;s market: <em data-end="776" data-start="716">what do you do with your leads once the season slows down?</em> Attendees will gain actionable strategies to nurture relationships\, improve follow-up\, increase conversion rates\, and maintain momentum year-round. You&rsquo\;ll walk away with practical tools to turn leftover leads into long-term opportunities and sustained business growth.</span></span></span></p>\n\n<p data-end="1229" data-start="1047" style="text-align: center\;"><span style="color:#000000\;"><span style="font-size:16px\;"><span style="font-family:times new roman\;">The cost to attend is <strong data-end="1088" data-start="1069">$100 per person</strong>\, and all attendees will receive a <strong data-end="1185" data-start="1123">$25 credit toward a Celebration of Excellence Awards entry</strong>\, adding even more value to your experience.</span></span></span></p>\n\n<p data-end="1401" data-start="1231" style="text-align: center\;"><span style="color:#000000\;"><span style="font-size:16px\;"><span style="font-family:times new roman\;">Don&rsquo\;t miss this opportunity to sharpen your skills\, strengthen your pipeline\, and connect with fellow industry professionals in a high-impact\, results-driven environment.</span></span></span></p>\n
LOCATION:Gold Coast Eagle 7051 Wireless Ct\, Sarasota\, FL 34240
UID:e.9232.5349
SEQUENCE:3
DTSTAMP:20260421T171624Z
URL:https://business.suncoastba.org/events/details/elevate-to-excellence-sales-workshop-training-seminar-5349
END:VEVENT

END:VCALENDAR
