BEGIN:VCALENDAR
VERSION:2.0
PRODID:-//ChamberMaster//Event Calendar 2.0//EN
METHOD:PUBLISH
X-PUBLISHED-TTL:P3D
REFRESH-INTERVAL:P3D
CALSCALE:GREGORIAN
BEGIN:VEVENT
DTSTART;VALUE=DATE:20220124
DTEND;VALUE=DATE:20220127
TRANSP:TRANSPARENT
X-MICROSOFT-CDO-ALLDAYEVENT:TRUE
SUMMARY:FHBA Legislative Conference
DESCRIPTION:FHBA Legislative Conference\n\nClick Here for more information.
X-ALT-DESC;FMTTYPE=text/html:FHBA Legislative Conference<br />\n<a href="https://fhba.com/events/">Click Here for more information.</a>
LOCATION:Tallahassee\, FL
UID:e.9232.2685
SEQUENCE:3
DTSTAMP:20260422T172431Z
URL:https://business.suncoastba.org/events/details/fhba-legislative-conference-2685
END:VEVENT

END:VCALENDAR
