BEGIN:VCALENDAR
VERSION:2.0
PRODID:-//ChamberMaster//Event Calendar 2.0//EN
METHOD:PUBLISH
X-PUBLISHED-TTL:P3D
REFRESH-INTERVAL:P3D
CALSCALE:GREGORIAN
BEGIN:VEVENT
DTSTART;VALUE=DATE:20230718
DTEND;VALUE=DATE:20230722
TRANSP:TRANSPARENT
X-MICROSOFT-CDO-ALLDAYEVENT:TRUE
SUMMARY:FHBA SEBC Conference
DESCRIPTION:Save the Date - Southeast Building Conference (SEBC) (sebcshow.com)
X-ALT-DESC;FMTTYPE=text/html:<a href="https://sebcshow.com/">Save the Date - Southeast Building Conference (SEBC) (sebcshow.com)</a>
LOCATION:
UID:e.9232.3235
SEQUENCE:3
DTSTAMP:20260421T135403Z
URL:https://business.suncoastba.org/events/details/fhba-sebc-conference-3235
END:VEVENT

END:VCALENDAR
