BEGIN:VCALENDAR
VERSION:2.0
PRODID:-//ChamberMaster//Event Calendar 2.0//EN
METHOD:PUBLISH
X-PUBLISHED-TTL:P3D
REFRESH-INTERVAL:P3D
CALSCALE:GREGORIAN
BEGIN:VEVENT
DTSTART:20200507T180000Z
DTEND:20200507T190000Z
X-MICROSOFT-CDO-ALLDAYEVENT:FALSE
SUMMARY:FHBA Townhall
DESCRIPTION:Join us for a Florida Home Builders Association (FHBA) Townhall with President Michael Bourre and Chief Executive Officer\, Rusty Payton.
X-ALT-DESC;FMTTYPE=text/html:Join us for a Florida Home Builders Association (FHBA) Townhall with President Michael Bourre and Chief Executive Officer\, Rusty Payton.&nbsp\;
LOCATION:Virtual Zoom Meeting - YOU MUST REGISTER TO RECEIVE THE CODE
UID:e.9232.2600
SEQUENCE:3
DTSTAMP:20260423T215601Z
URL:https://business.suncoastba.org/events/details/fhba-townhall-2600
END:VEVENT

END:VCALENDAR
