BEGIN:VCALENDAR
VERSION:2.0
PRODID:-//ChamberMaster//Event Calendar 2.0//EN
METHOD:PUBLISH
X-PUBLISHED-TTL:P3D
REFRESH-INTERVAL:P3D
CALSCALE:GREGORIAN
BEGIN:VEVENT
DTSTART:20160316T220000Z
DTEND:20160316T233000Z
X-MICROSOFT-CDO-ALLDAYEVENT:FALSE
SUMMARY:FREE SEMINAR: How to Avoid the Most Common Remodeling Mistakes
DESCRIPTION:Looking to update your kitchen or bath but don't know where to start? You've come to the right place.\n\nFrom flooring to cabinets\, to paint color and fixtures\, remodeling your home is no simple task. With the endless options to choose from\, we know just how overwhelming it can be to turn your vision into a reality. To ensure a seamless renovation experience\, our team is by your side every step of the way.\n\nDuring this seminar you will learn:\n\n\n	What to expect during a remodel\n	How to find the right service providers\n	Staying within budget and on-schedule\n	Dealing with unexpected challenges\n\n\nAnd plenty more!\n\n\n\n\nSeating is limited.\n\n\n\nRSVP at 941-753-2284.
X-ALT-DESC;FMTTYPE=text/html:<div>\n<div style="background:none\; border:none\; padding:0px\; text-align:inherit">\n<p style="text-align:center"><span style="color:inherit\; font-family:inherit\; font-size:inherit">Looking to update your kitchen or bath but don&rsquo\;t know where to start? You&rsquo\;ve come to the right place.</span></p>\n\n<p style="text-align:center">From flooring to cabinets\, to paint color and fixtures\, remodeling your home is no simple task. With the endless options to choose from\,&nbsp\;we know just how overwhelming&nbsp\;it can be to turn your vision into a reality. To ensure a seamless renovation experience\, our team is by your side every step of the way.</p>\n\n<p style="text-align:inherit">During this seminar you will learn:</p>\n\n<ul>\n	<li>What to expect during a remodel</li>\n	<li>How to find the right service providers</li>\n	<li>Staying within budget and on-schedule</li>\n	<li>Dealing with unexpected challenges</li>\n</ul>\n\n<p style="text-align:inherit">And plenty more!</p>\n</div>\n</div>\n\n<div style="text-align:center">\n<h3 style="color:rgb(34\, 34\, 34)\; font-style:inherit\; text-align:inherit"><strong><span style="color:inherit\; font-family:inherit\; font-size:inherit">Seating is limited.</span></strong></h3>\n</div>\n\n<div style="text-align:center">\n<h3 style="color:rgb(34\, 34\, 34)\; font-style:inherit\; text-align:inherit"><strong><span style="color:inherit\; font-family:inherit\; font-size:inherit">RSVP</span>&nbsp\;at 941-753-2284.</strong></h3>\n</div>\n
LOCATION:DreamMaker Bath & Kitchen Design Center\, 816 Manatee Ave East #102\, Bradenton 34208
UID:e.9232.1256
SEQUENCE:3
DTSTAMP:20260421T143919Z
URL:https://business.suncoastba.org/events/details/free-seminar-how-to-avoid-the-most-common-remodeling-mistakes-03-16-2016-1256
END:VEVENT

END:VCALENDAR
