BEGIN:VCALENDAR
VERSION:2.0
PRODID:-//ChamberMaster//Event Calendar 2.0//EN
METHOD:PUBLISH
X-PUBLISHED-TTL:P3D
REFRESH-INTERVAL:P3D
CALSCALE:GREGORIAN
BEGIN:VEVENT
DTSTART:20160514T143000Z
DTEND:20160514T160000Z
X-MICROSOFT-CDO-ALLDAYEVENT:FALSE
SUMMARY:FREE Seminar: How to Avoid the Most Common Remodeling Mistakes
DESCRIPTION:Looking to update your kitchen or bathroom but don't know where to start? Perhaps you are preparing yourself for an upcoming remodel that you hope to start within the next few months. Whatever your situation\, we invite you to join us at one of our remodeling seminars. \n\n\n\nWhether you are in the preliminary stages or simply looking to stay in the loop of the latest trends\, we guarantee you will walk away with a wealth of knowledge\, sure to ease you into your next remodeling project.\n\n\n\nFree to attend\, but seating is limited. RSVP by calling 941-757-3395.
X-ALT-DESC;FMTTYPE=text/html:<span style="font-family:arial\,helvetica\,sans-serif">Looking to update your kitchen or bathroom but don&rsquo\;t know where to start? Perhaps you are preparing yourself for an upcoming remodel that you hope to start within the next few months. Whatever your situation\, we invite you to join us at one of our remodeling seminars.&nbsp\;</span><br />\n<br />\n<span style="font-family:arial\,helvetica\,sans-serif">Whether you are in the preliminary stages or simply&nbsp\;looking to stay in the loop of&nbsp\;the latest trends\, we guarantee you will walk away with a wealth of knowledge\, sure to ease you into your next remodeling project.</span><br />\n<br />\n<span style="color:rgb(17\, 17\, 17)\; font-family:arial\,helvetica\,sans-serif">Free to attend\, but seating is limited. RSVP by calling </span><span style="color: rgb(31\, 73\, 125)\; font-family: Calibri\, sans-serif\; font-size: 14.6667px\; line-height: normal\;">941-757-3395</span><span style="color:rgb(17\, 17\, 17)\; font-family:arial\,helvetica\,sans-serif">.</span>
LOCATION:816 Manatee Ave East\, Bradenton 34208
UID:e.9232.1524
SEQUENCE:3
DTSTAMP:20260421T180026Z
URL:https://business.suncoastba.org/events/details/free-seminar-how-to-avoid-the-most-common-remodeling-mistakes-05-14-2016-1524
END:VEVENT

END:VCALENDAR
