BEGIN:VCALENDAR
VERSION:2.0
PRODID:-//ChamberMaster//Event Calendar 2.0//EN
METHOD:PUBLISH
X-PUBLISHED-TTL:P3D
REFRESH-INTERVAL:P3D
CALSCALE:GREGORIAN
BEGIN:VEVENT
DTSTART:20160820T143000Z
DTEND:20160820T160000Z
X-MICROSOFT-CDO-ALLDAYEVENT:FALSE
SUMMARY:FREE Seminar: How to Avoid the Most Common Remodeling Mistakes
DESCRIPTION:Looking to update your kitchen or bathroom but don't know where to start? Perhaps you are preparing yourself for an upcoming remodel that you hope to start within the next few months. Whatever your situation\, we invite you to join us at one of our remodeling seminars. \n\nWe will discuss what to expect during a remodel\, how to find the right service providers\, staying within budget and on-schedule\, dealing with unexpected challenges and much more!\n\n \n\nThe seminar is free to attend\, but an RSVP is required\, as seating is limited. RSVP by calling 941-757-3395.\n\nMore Info: http://bathkitchenremodels.com/seminars/
X-ALT-DESC;FMTTYPE=text/html:<p><span style="font-size:medium"><span style="font-family:calibri">Looking to update your kitchen or bathroom but don&rsquo\;t know where to start? Perhaps you are preparing yourself for an upcoming remodel that you hope to start within the next few months. Whatever your situation\, we invite you to join us at one of our remodeling seminars.&nbsp\;</span></span><br />\n<span style="font-size:medium"><span style="font-family:calibri">We will discuss what to expect during a remodel\, how to find the right service providers\, staying within budget and on-schedule\, dealing with unexpected challenges and much more!</span></span><br />\n&nbsp\;</p>\n\n<p><span style="color:#111111"><span style="font-size:medium"><span style="font-family:calibri">The seminar is free to attend\, but an RSVP is required\, as seating is limited. RSVP by calling 941-757-3395.</span></span></span><br />\n<span style="color:#111111"><span style="font-size:medium"><span style="font-family:calibri">More Info: </span></span></span><a href="http://bathkitchenremodels.com/seminars/"><span style="font-size:medium"><span style="font-family:calibri"><span style="color:#0000ff">http://bathkitchenremodels.com/seminars/</span></span></span></a><br />\n&nbsp\;</p>\n
LOCATION:Gilbert Design Build 816 Manatee Ave East #102\, Bradenton 34208
UID:e.9232.1532
SEQUENCE:3
DTSTAMP:20260421T234849Z
URL:https://business.suncoastba.org/events/details/free-seminar-how-to-avoid-the-most-common-remodeling-mistakes-08-20-2016-1532
END:VEVENT

END:VCALENDAR
